BEGIN:VCALENDAR
VERSION:2.0
PRODID:-//  The Believers Concert Band - ECPv6.15.20//NONSGML v1.0//EN
CALSCALE:GREGORIAN
METHOD:PUBLISH
X-WR-CALNAME:  The Believers Concert Band
X-ORIGINAL-URL:https://www.believersband.com
X-WR-CALDESC:Events for   The Believers Concert Band
REFRESH-INTERVAL;VALUE=DURATION:PT1H
X-Robots-Tag:noindex
X-PUBLISHED-TTL:PT1H
BEGIN:VTIMEZONE
TZID:America/New_York
BEGIN:DAYLIGHT
TZOFFSETFROM:-0500
TZOFFSETTO:-0400
TZNAME:EDT
DTSTART:20250309T070000
END:DAYLIGHT
BEGIN:STANDARD
TZOFFSETFROM:-0400
TZOFFSETTO:-0500
TZNAME:EST
DTSTART:20251102T060000
END:STANDARD
BEGIN:DAYLIGHT
TZOFFSETFROM:-0500
TZOFFSETTO:-0400
TZNAME:EDT
DTSTART:20260308T070000
END:DAYLIGHT
BEGIN:STANDARD
TZOFFSETFROM:-0400
TZOFFSETTO:-0500
TZNAME:EST
DTSTART:20261101T060000
END:STANDARD
BEGIN:DAYLIGHT
TZOFFSETFROM:-0500
TZOFFSETTO:-0400
TZNAME:EDT
DTSTART:20270314T070000
END:DAYLIGHT
BEGIN:STANDARD
TZOFFSETFROM:-0400
TZOFFSETTO:-0500
TZNAME:EST
DTSTART:20271107T060000
END:STANDARD
END:VTIMEZONE
BEGIN:VEVENT
DTSTART;TZID=America/New_York:20260702T183000
DTEND;TZID=America/New_York:20260702T203000
DTSTAMP:20260423T174838
CREATED:20251211T205454Z
LAST-MODIFIED:20251211T205454Z
UID:10157-1783017000-1783024200@www.believersband.com
SUMMARY:SJ Rehearsal
DESCRIPTION:
URL:https://www.believersband.com/event/sj-rehearsal-83/
LOCATION:Gainesville First United Methodist Church
END:VEVENT
BEGIN:VEVENT
DTSTART;TZID=America/New_York:20260709T183000
DTEND;TZID=America/New_York:20260709T203000
DTSTAMP:20260423T174838
CREATED:20251211T205455Z
LAST-MODIFIED:20251211T205455Z
UID:10158-1783621800-1783629000@www.believersband.com
SUMMARY:SJ Rehearsal
DESCRIPTION:
URL:https://www.believersband.com/event/sj-rehearsal-84/
LOCATION:Gainesville First United Methodist Church
END:VEVENT
BEGIN:VEVENT
DTSTART;TZID=America/New_York:20260716T183000
DTEND;TZID=America/New_York:20260716T203000
DTSTAMP:20260423T174838
CREATED:20251211T205457Z
LAST-MODIFIED:20251211T205457Z
UID:10159-1784226600-1784233800@www.believersband.com
SUMMARY:SJ Rehearsal
DESCRIPTION:
URL:https://www.believersband.com/event/sj-rehearsal-85/
LOCATION:Gainesville First United Methodist Church
END:VEVENT
BEGIN:VEVENT
DTSTART;TZID=America/New_York:20260723T183000
DTEND;TZID=America/New_York:20260723T203000
DTSTAMP:20260423T174838
CREATED:20251211T205458Z
LAST-MODIFIED:20251211T205458Z
UID:10160-1784831400-1784838600@www.believersband.com
SUMMARY:SJ Rehearsal
DESCRIPTION:
URL:https://www.believersband.com/event/sj-rehearsal-86/
LOCATION:Gainesville First United Methodist Church
END:VEVENT
BEGIN:VEVENT
DTSTART;TZID=America/New_York:20260730T183000
DTEND;TZID=America/New_York:20260730T203000
DTSTAMP:20260423T174838
CREATED:20251211T205500Z
LAST-MODIFIED:20251211T205500Z
UID:10161-1785436200-1785443400@www.believersband.com
SUMMARY:SJ Rehearsal
DESCRIPTION:
URL:https://www.believersband.com/event/sj-rehearsal-87/
LOCATION:Gainesville First United Methodist Church
END:VEVENT
END:VCALENDAR