BEGIN:VCALENDAR
VERSION:2.0
PRODID:-//  The Believers Concert Band - ECPv6.15.20//NONSGML v1.0//EN
CALSCALE:GREGORIAN
METHOD:PUBLISH
X-WR-CALNAME:  The Believers Concert Band
X-ORIGINAL-URL:https://www.believersband.com
X-WR-CALDESC:Events for   The Believers Concert Band
REFRESH-INTERVAL;VALUE=DURATION:PT1H
X-Robots-Tag:noindex
X-PUBLISHED-TTL:PT1H
BEGIN:VTIMEZONE
TZID:America/New_York
BEGIN:DAYLIGHT
TZOFFSETFROM:-0500
TZOFFSETTO:-0400
TZNAME:EDT
DTSTART:20220313T070000
END:DAYLIGHT
BEGIN:STANDARD
TZOFFSETFROM:-0400
TZOFFSETTO:-0500
TZNAME:EST
DTSTART:20221106T060000
END:STANDARD
BEGIN:DAYLIGHT
TZOFFSETFROM:-0500
TZOFFSETTO:-0400
TZNAME:EDT
DTSTART:20230312T070000
END:DAYLIGHT
BEGIN:STANDARD
TZOFFSETFROM:-0400
TZOFFSETTO:-0500
TZNAME:EST
DTSTART:20231105T060000
END:STANDARD
BEGIN:DAYLIGHT
TZOFFSETFROM:-0500
TZOFFSETTO:-0400
TZNAME:EDT
DTSTART:20240310T070000
END:DAYLIGHT
BEGIN:STANDARD
TZOFFSETFROM:-0400
TZOFFSETTO:-0500
TZNAME:EST
DTSTART:20241103T060000
END:STANDARD
END:VTIMEZONE
BEGIN:VEVENT
DTSTART;TZID=America/New_York:20230703T180000
DTEND;TZID=America/New_York:20230703T180000
DTSTAMP:20260424T150839
CREATED:20221214T210215Z
LAST-MODIFIED:20221214T210215Z
UID:6397-1688407200-1688407200@www.believersband.com
SUMMARY:BB Rehearsal
DESCRIPTION:
URL:https://www.believersband.com/event/bb-rehearsal-26/
LOCATION:Gainesville First United Methodist Church
CATEGORIES:Believers Band
END:VEVENT
BEGIN:VEVENT
DTSTART;TZID=America/New_York:20230710T180000
DTEND;TZID=America/New_York:20230710T180000
DTSTAMP:20260424T150839
CREATED:20221214T210217Z
LAST-MODIFIED:20221214T210217Z
UID:6398-1689012000-1689012000@www.believersband.com
SUMMARY:BB Rehearsal
DESCRIPTION:
URL:https://www.believersband.com/event/bb-rehearsal-27/
LOCATION:Gainesville First United Methodist Church
CATEGORIES:Believers Band
END:VEVENT
BEGIN:VEVENT
DTSTART;TZID=America/New_York:20230714T180000
DTEND;TZID=America/New_York:20230714T210000
DTSTAMP:20260424T150839
CREATED:20230424T195132Z
LAST-MODIFIED:20230424T195132Z
UID:6831-1689357600-1689368400@www.believersband.com
SUMMARY:Southern Journey-Helen Rotary Club
DESCRIPTION:
URL:https://www.believersband.com/event/southern-journey-helen-rotary-club/
LOCATION:Valhalla Resort\, 688 Bahn Innsbruck\, Helen\, GA\, United States
CATEGORIES:Southern Journey Big Band
END:VEVENT
BEGIN:VEVENT
DTSTART;TZID=America/New_York:20230717T180000
DTEND;TZID=America/New_York:20230717T180000
DTSTAMP:20260424T150839
CREATED:20221214T210218Z
LAST-MODIFIED:20221214T210218Z
UID:6399-1689616800-1689616800@www.believersband.com
SUMMARY:BB Rehearsal
DESCRIPTION:
URL:https://www.believersband.com/event/bb-rehearsal-28/
LOCATION:Gainesville First United Methodist Church
CATEGORIES:Believers Band
END:VEVENT
BEGIN:VEVENT
DTSTART;TZID=America/New_York:20230724T180000
DTEND;TZID=America/New_York:20230724T180000
DTSTAMP:20260424T150839
CREATED:20221214T210311Z
LAST-MODIFIED:20221214T210311Z
UID:6400-1690221600-1690221600@www.believersband.com
SUMMARY:BB Rehearsal
DESCRIPTION:
URL:https://www.believersband.com/event/bb-rehearsal-29/
LOCATION:Gainesville First United Methodist Church
CATEGORIES:Believers Band
END:VEVENT
BEGIN:VEVENT
DTSTART;TZID=America/New_York:20230731T180000
DTEND;TZID=America/New_York:20230731T180000
DTSTAMP:20260424T150839
CREATED:20221214T210316Z
LAST-MODIFIED:20221214T210316Z
UID:6401-1690826400-1690826400@www.believersband.com
SUMMARY:BB Rehearsal
DESCRIPTION:
URL:https://www.believersband.com/event/bb-rehearsal-30/
LOCATION:Gainesville First United Methodist Church
CATEGORIES:Believers Band
END:VEVENT
END:VCALENDAR