BEGIN:VCALENDAR
VERSION:2.0
PRODID:-//  The Believers Concert Band - ECPv6.15.20//NONSGML v1.0//EN
CALSCALE:GREGORIAN
METHOD:PUBLISH
X-WR-CALNAME:  The Believers Concert Band
X-ORIGINAL-URL:https://www.believersband.com
X-WR-CALDESC:Events for   The Believers Concert Band
REFRESH-INTERVAL;VALUE=DURATION:PT1H
X-Robots-Tag:noindex
X-PUBLISHED-TTL:PT1H
BEGIN:VTIMEZONE
TZID:America/New_York
BEGIN:DAYLIGHT
TZOFFSETFROM:-0500
TZOFFSETTO:-0400
TZNAME:EDT
DTSTART:20220313T070000
END:DAYLIGHT
BEGIN:STANDARD
TZOFFSETFROM:-0400
TZOFFSETTO:-0500
TZNAME:EST
DTSTART:20221106T060000
END:STANDARD
BEGIN:DAYLIGHT
TZOFFSETFROM:-0500
TZOFFSETTO:-0400
TZNAME:EDT
DTSTART:20230312T070000
END:DAYLIGHT
BEGIN:STANDARD
TZOFFSETFROM:-0400
TZOFFSETTO:-0500
TZNAME:EST
DTSTART:20231105T060000
END:STANDARD
BEGIN:DAYLIGHT
TZOFFSETFROM:-0500
TZOFFSETTO:-0400
TZNAME:EDT
DTSTART:20240310T070000
END:DAYLIGHT
BEGIN:STANDARD
TZOFFSETFROM:-0400
TZOFFSETTO:-0500
TZNAME:EST
DTSTART:20241103T060000
END:STANDARD
END:VTIMEZONE
BEGIN:VEVENT
DTSTART;TZID=America/New_York:20230105T183000
DTEND;TZID=America/New_York:20230105T203000
DTSTAMP:20260424T080147
CREATED:20221221T180727Z
LAST-MODIFIED:20221221T180727Z
UID:6440-1672943400-1672950600@www.believersband.com
SUMMARY:Big Band Rehearsal
DESCRIPTION:
URL:https://www.believersband.com/event/big-band-rehearsal-3/
CATEGORIES:Southern Journey Big Band
END:VEVENT
BEGIN:VEVENT
DTSTART;TZID=America/New_York:20230107T150000
DTEND;TZID=America/New_York:20230107T170000
DTSTAMP:20260424T080147
CREATED:20221229T220639Z
LAST-MODIFIED:20221229T220639Z
UID:6504-1673103600-1673110800@www.believersband.com
SUMMARY:Board Meeting
DESCRIPTION:
URL:https://www.believersband.com/event/board-meeting-3/
CATEGORIES:Board
END:VEVENT
BEGIN:VEVENT
DTSTART;TZID=America/New_York:20230109T180000
DTEND;TZID=America/New_York:20230109T200000
DTSTAMP:20260424T080147
CREATED:20221214T205035Z
LAST-MODIFIED:20221214T205538Z
UID:6366-1673287200-1673294400@www.believersband.com
SUMMARY:BB Rehearsal
DESCRIPTION:
URL:https://www.believersband.com/event/bb-rehearsal/
LOCATION:Gainesville First United Methodist Church
CATEGORIES:Believers Band
END:VEVENT
BEGIN:VEVENT
DTSTART;TZID=America/New_York:20230116T180000
DTEND;TZID=America/New_York:20230116T200000
DTSTAMP:20260424T080147
CREATED:20221214T205038Z
LAST-MODIFIED:20221214T205541Z
UID:6367-1673892000-1673899200@www.believersband.com
SUMMARY:BB Rehearsal
DESCRIPTION:
URL:https://www.believersband.com/event/bb-rehearsal-2/
LOCATION:Gainesville First United Methodist Church
CATEGORIES:Believers Band
END:VEVENT
BEGIN:VEVENT
DTSTART;TZID=America/New_York:20230119T183000
DTEND;TZID=America/New_York:20230119T203000
DTSTAMP:20260424T080147
CREATED:20221220T163515Z
LAST-MODIFIED:20221220T163515Z
UID:6428-1674153000-1674160200@www.believersband.com
SUMMARY:Big Band Rehearsal
DESCRIPTION:
URL:https://www.believersband.com/event/big-band-rehearsal/
LOCATION:Gainesville First United Methodist Church
CATEGORIES:Southern Journey Big Band
END:VEVENT
BEGIN:VEVENT
DTSTART;TZID=America/New_York:20230123T180000
DTEND;TZID=America/New_York:20230123T200000
DTSTAMP:20260424T080147
CREATED:20221214T205543Z
LAST-MODIFIED:20221214T205543Z
UID:6372-1674496800-1674504000@www.believersband.com
SUMMARY:BB Rehearsal
DESCRIPTION:
URL:https://www.believersband.com/event/bb-rehearsal-3/
LOCATION:Gainesville First United Methodist Church
CATEGORIES:Believers Band
END:VEVENT
BEGIN:VEVENT
DTSTART;TZID=America/New_York:20230126T183000
DTEND;TZID=America/New_York:20230126T203000
DTSTAMP:20260424T080147
CREATED:20221220T163717Z
LAST-MODIFIED:20221220T163717Z
UID:6430-1674757800-1674765000@www.believersband.com
SUMMARY:Big Band Rehearsal
DESCRIPTION:
URL:https://www.believersband.com/event/big-band-rehearsal-2/
LOCATION:Gainesville First United Methodist Church
CATEGORIES:Southern Journey Big Band
END:VEVENT
BEGIN:VEVENT
DTSTART;TZID=America/New_York:20230130T180000
DTEND;TZID=America/New_York:20230130T180000
DTSTAMP:20260424T080147
CREATED:20221214T205930Z
LAST-MODIFIED:20221214T205930Z
UID:6375-1675101600-1675101600@www.believersband.com
SUMMARY:BB Rehearsal
DESCRIPTION:
URL:https://www.believersband.com/event/bb-rehearsal-4/
LOCATION:Gainesville First United Methodist Church
CATEGORIES:Believers Band
END:VEVENT
END:VCALENDAR