BEGIN:VCALENDAR
VERSION:2.0
PRODID:-//  The Believers Concert Band - ECPv6.15.20//NONSGML v1.0//EN
CALSCALE:GREGORIAN
METHOD:PUBLISH
X-WR-CALNAME:  The Believers Concert Band
X-ORIGINAL-URL:https://www.believersband.com
X-WR-CALDESC:Events for   The Believers Concert Band
REFRESH-INTERVAL;VALUE=DURATION:PT1H
X-Robots-Tag:noindex
X-PUBLISHED-TTL:PT1H
BEGIN:VTIMEZONE
TZID:America/New_York
BEGIN:DAYLIGHT
TZOFFSETFROM:-0500
TZOFFSETTO:-0400
TZNAME:EDT
DTSTART:20240310T070000
END:DAYLIGHT
BEGIN:STANDARD
TZOFFSETFROM:-0400
TZOFFSETTO:-0500
TZNAME:EST
DTSTART:20241103T060000
END:STANDARD
BEGIN:DAYLIGHT
TZOFFSETFROM:-0500
TZOFFSETTO:-0400
TZNAME:EDT
DTSTART:20250309T070000
END:DAYLIGHT
BEGIN:STANDARD
TZOFFSETFROM:-0400
TZOFFSETTO:-0500
TZNAME:EST
DTSTART:20251102T060000
END:STANDARD
BEGIN:DAYLIGHT
TZOFFSETFROM:-0500
TZOFFSETTO:-0400
TZNAME:EDT
DTSTART:20260308T070000
END:DAYLIGHT
BEGIN:STANDARD
TZOFFSETFROM:-0400
TZOFFSETTO:-0500
TZNAME:EST
DTSTART:20261101T060000
END:STANDARD
END:VTIMEZONE
BEGIN:VEVENT
DTSTART;TZID=America/New_York:20250518T083000
DTEND;TZID=America/New_York:20250518T093000
DTSTAMP:20260424T052303
CREATED:20240917T152742Z
LAST-MODIFIED:20250513T140024Z
UID:8395-1747557000-1747560600@www.believersband.com
SUMMARY:BB Lakeside Worship Service
DESCRIPTION:
URL:https://www.believersband.com/event/lakeside-worship-service/
LOCATION:Gainesville First United Methodist Church
CATEGORIES:Believers Band,Public
END:VEVENT
BEGIN:VEVENT
DTSTART;TZID=America/New_York:20250515T183000
DTEND;TZID=America/New_York:20250515T203000
DTSTAMP:20260424T052303
CREATED:20250205T170245Z
LAST-MODIFIED:20250205T170245Z
UID:8931-1747333800-1747341000@www.believersband.com
SUMMARY:SJ Rehearsal
DESCRIPTION:
URL:https://www.believersband.com/event/sj-rehearsal-29/
LOCATION:Gainesville First United Methodist Church
CATEGORIES:Southern Journey
END:VEVENT
BEGIN:VEVENT
DTSTART;TZID=America/New_York:20250515T163000
DTEND;TZID=America/New_York:20250515T183000
DTSTAMP:20260424T052303
CREATED:20241029T194721Z
LAST-MODIFIED:20241113T164711Z
UID:8577-1747326600-1747333800@www.believersband.com
SUMMARY:Board Meeting
DESCRIPTION:Room S-49
URL:https://www.believersband.com/event/board-meeting-15/
LOCATION:Gainesville First United Methodist Church
CATEGORIES:Board
END:VEVENT
BEGIN:VEVENT
DTSTART;TZID=America/New_York:20250512T180000
DTEND;TZID=America/New_York:20250512T200000
DTSTAMP:20260424T052303
CREATED:20241002T164919Z
LAST-MODIFIED:20241002T164919Z
UID:8510-1747072800-1747080000@www.believersband.com
SUMMARY:BB Rehearsal
DESCRIPTION:
URL:https://www.believersband.com/event/bb-rehearsal-117/
LOCATION:Gainesville First United Methodist Church
CATEGORIES:Believers Band
END:VEVENT
BEGIN:VEVENT
DTSTART;TZID=America/New_York:20250508T183000
DTEND;TZID=America/New_York:20250508T203000
DTSTAMP:20260424T052303
CREATED:20250205T170244Z
LAST-MODIFIED:20250205T170244Z
UID:8930-1746729000-1746736200@www.believersband.com
SUMMARY:SJ Rehearsal
DESCRIPTION:
URL:https://www.believersband.com/event/sj-rehearsal-28/
LOCATION:Gainesville First United Methodist Church
CATEGORIES:Southern Journey
END:VEVENT
BEGIN:VEVENT
DTSTART;TZID=America/New_York:20250505T180000
DTEND;TZID=America/New_York:20250505T200000
DTSTAMP:20260424T052303
CREATED:20241002T164916Z
LAST-MODIFIED:20241002T164916Z
UID:8509-1746468000-1746475200@www.believersband.com
SUMMARY:BB Rehearsal
DESCRIPTION:
URL:https://www.believersband.com/event/bb-rehearsal-116/
LOCATION:Gainesville First United Methodist Church
CATEGORIES:Believers Band
END:VEVENT
BEGIN:VEVENT
DTSTART;TZID=America/New_York:20250501T183000
DTEND;TZID=America/New_York:20250501T203000
DTSTAMP:20260424T052303
CREATED:20250205T170234Z
LAST-MODIFIED:20250205T170234Z
UID:8929-1746124200-1746131400@www.believersband.com
SUMMARY:SJ Rehearsal
DESCRIPTION:
URL:https://www.believersband.com/event/sj-rehearsal-27/
LOCATION:Gainesville First United Methodist Church
CATEGORIES:Southern Journey
END:VEVENT
BEGIN:VEVENT
DTSTART;TZID=America/New_York:20250427T160000
DTEND;TZID=America/New_York:20250427T180000
DTSTAMP:20260424T052303
CREATED:20240803T190956Z
LAST-MODIFIED:20250321T142836Z
UID:8172-1745769600-1745776800@www.believersband.com
SUMMARY:BB Music Across the Radio Dial Concert
DESCRIPTION:
URL:https://www.believersband.com/event/spring-concert-2/
LOCATION:Gainesville First United Methodist Church
CATEGORIES:Believers Band,Public
END:VEVENT
BEGIN:VEVENT
DTSTART;TZID=America/New_York:20250426T100000
DTEND;TZID=America/New_York:20250426T120000
DTSTAMP:20260424T052303
CREATED:20240917T152439Z
LAST-MODIFIED:20250220T162458Z
UID:8393-1745661600-1745668800@www.believersband.com
SUMMARY:BB Dress Rehearsal
DESCRIPTION:
URL:https://www.believersband.com/event/dress-rehearsal-3/
LOCATION:Gainesville First United Methodist Church
CATEGORIES:Believers Band
END:VEVENT
BEGIN:VEVENT
DTSTART;TZID=America/New_York:20250424T183000
DTEND;TZID=America/New_York:20250424T203000
DTSTAMP:20260424T052303
CREATED:20250205T170233Z
LAST-MODIFIED:20250205T170233Z
UID:8928-1745519400-1745526600@www.believersband.com
SUMMARY:SJ Rehearsal
DESCRIPTION:
URL:https://www.believersband.com/event/sj-rehearsal-26/
LOCATION:Gainesville First United Methodist Church
CATEGORIES:Southern Journey
END:VEVENT
BEGIN:VEVENT
DTSTART;TZID=America/New_York:20250421T180000
DTEND;TZID=America/New_York:20250421T200000
DTSTAMP:20260424T052303
CREATED:20241002T164912Z
LAST-MODIFIED:20241002T164912Z
UID:8507-1745258400-1745265600@www.believersband.com
SUMMARY:BB Rehearsal
DESCRIPTION:
URL:https://www.believersband.com/event/bb-rehearsal-114/
LOCATION:Gainesville First United Methodist Church
CATEGORIES:Believers Band
END:VEVENT
BEGIN:VEVENT
DTSTART;TZID=America/New_York:20250417T183000
DTEND;TZID=America/New_York:20250417T203000
DTSTAMP:20260424T052303
CREATED:20250205T170232Z
LAST-MODIFIED:20250205T170232Z
UID:8927-1744914600-1744921800@www.believersband.com
SUMMARY:SJ Rehearsal
DESCRIPTION:
URL:https://www.believersband.com/event/sj-rehearsal-25/
LOCATION:Gainesville First United Methodist Church
CATEGORIES:Southern Journey
END:VEVENT
BEGIN:VEVENT
DTSTART;TZID=America/New_York:20250414T180000
DTEND;TZID=America/New_York:20250414T200000
DTSTAMP:20260424T052303
CREATED:20241002T164905Z
LAST-MODIFIED:20241002T164905Z
UID:8506-1744653600-1744660800@www.believersband.com
SUMMARY:BB Rehearsal
DESCRIPTION:
URL:https://www.believersband.com/event/bb-rehearsal-113/
LOCATION:Gainesville First United Methodist Church
CATEGORIES:Believers Band
END:VEVENT
BEGIN:VEVENT
DTSTART;TZID=America/New_York:20250410T183000
DTEND;TZID=America/New_York:20250410T203000
DTSTAMP:20260424T052303
CREATED:20250205T170231Z
LAST-MODIFIED:20250205T170231Z
UID:8926-1744309800-1744317000@www.believersband.com
SUMMARY:SJ Rehearsal
DESCRIPTION:
URL:https://www.believersband.com/event/sj-rehearsal-24/
LOCATION:Gainesville First United Methodist Church
CATEGORIES:Southern Journey
END:VEVENT
BEGIN:VEVENT
DTSTART;TZID=America/New_York:20250410T163000
DTEND;TZID=America/New_York:20250410T183000
DTSTAMP:20260424T052303
CREATED:20241029T194447Z
LAST-MODIFIED:20241113T164625Z
UID:8574-1744302600-1744309800@www.believersband.com
SUMMARY:Board Meeting
DESCRIPTION:Room S-49
URL:https://www.believersband.com/event/board-meeting-14/
LOCATION:Gainesville First United Methodist Church
CATEGORIES:Board
END:VEVENT
BEGIN:VEVENT
DTSTART;TZID=America/New_York:20250407T180000
DTEND;TZID=America/New_York:20250407T200000
DTSTAMP:20260424T052303
CREATED:20241002T164903Z
LAST-MODIFIED:20241002T164903Z
UID:8505-1744048800-1744056000@www.believersband.com
SUMMARY:BB Rehearsal
DESCRIPTION:
URL:https://www.believersband.com/event/bb-rehearsal-112/
LOCATION:Gainesville First United Methodist Church
CATEGORIES:Believers Band
END:VEVENT
BEGIN:VEVENT
DTSTART;VALUE=DATE:20250403
DTEND;VALUE=DATE:20250404
DTSTAMP:20260424T052303
CREATED:20250205T170229Z
LAST-MODIFIED:20250220T164530Z
UID:8925-1743638400-1743724799@www.believersband.com
SUMMARY:SJ Cresswind
DESCRIPTION:
URL:https://www.believersband.com/event/sj-rehearsal-23/
LOCATION:Cresswind\, Gainesville\, GA\, 30504\, United States
CATEGORIES:Public,Southern Journey Big Band
END:VEVENT
BEGIN:VEVENT
DTSTART;TZID=America/New_York:20250331T180000
DTEND;TZID=America/New_York:20250331T200000
DTSTAMP:20260424T052303
CREATED:20241002T164902Z
LAST-MODIFIED:20241002T164902Z
UID:8504-1743444000-1743451200@www.believersband.com
SUMMARY:BB Rehearsal
DESCRIPTION:
URL:https://www.believersband.com/event/bb-rehearsal-111/
LOCATION:Gainesville First United Methodist Church
CATEGORIES:Believers Band
END:VEVENT
BEGIN:VEVENT
DTSTART;VALUE=DATE:20250329
DTEND;VALUE=DATE:20250330
DTSTAMP:20260424T052303
CREATED:20250116T163934Z
LAST-MODIFIED:20250220T164611Z
UID:8872-1743206400-1743292799@www.believersband.com
SUMMARY:SJ Dance
DESCRIPTION:
URL:https://www.believersband.com/event/dance/
LOCATION:Valhalla Resort\, 688 Bahn Innsbruck\, Helen\, GA\, United States
CATEGORIES:Public,Southern Journey Big Band
END:VEVENT
BEGIN:VEVENT
DTSTART;TZID=America/New_York:20250327T183000
DTEND;TZID=America/New_York:20250327T203000
DTSTAMP:20260424T052303
CREATED:20250115T215510Z
LAST-MODIFIED:20250205T170219Z
UID:8863-1743100200-1743107400@www.believersband.com
SUMMARY:SJ Rehearsal
DESCRIPTION:
URL:https://www.believersband.com/event/sj-rehearsal-22/
LOCATION:Gainesville First United Methodist Church
CATEGORIES:Southern Journey
END:VEVENT
BEGIN:VEVENT
DTSTART;TZID=America/New_York:20250324T180000
DTEND;TZID=America/New_York:20250324T200000
DTSTAMP:20260424T052303
CREATED:20241002T164900Z
LAST-MODIFIED:20241002T164900Z
UID:8503-1742839200-1742846400@www.believersband.com
SUMMARY:BB Rehearsal
DESCRIPTION:
URL:https://www.believersband.com/event/bb-rehearsal-110/
LOCATION:Gainesville First United Methodist Church
CATEGORIES:Believers Band
END:VEVENT
BEGIN:VEVENT
DTSTART;TZID=America/New_York:20250320T183000
DTEND;TZID=America/New_York:20250320T203000
DTSTAMP:20260424T052303
CREATED:20250115T215500Z
LAST-MODIFIED:20250205T170218Z
UID:8862-1742495400-1742502600@www.believersband.com
SUMMARY:SJ Rehearsal
DESCRIPTION:
URL:https://www.believersband.com/event/sj-rehearsal-21/
LOCATION:Gainesville First United Methodist Church
CATEGORIES:Southern Journey
END:VEVENT
BEGIN:VEVENT
DTSTART;TZID=America/New_York:20250317T180000
DTEND;TZID=America/New_York:20250317T200000
DTSTAMP:20260424T052303
CREATED:20241002T164858Z
LAST-MODIFIED:20241002T164858Z
UID:8502-1742234400-1742241600@www.believersband.com
SUMMARY:BB Rehearsal
DESCRIPTION:
URL:https://www.believersband.com/event/bb-rehearsal-109/
LOCATION:Gainesville First United Methodist Church
CATEGORIES:Believers Band
END:VEVENT
BEGIN:VEVENT
DTSTART;VALUE=DATE:20250314
DTEND;VALUE=DATE:20250315
DTSTAMP:20260424T052303
CREATED:20250205T194809Z
LAST-MODIFIED:20250220T164712Z
UID:8973-1741910400-1741996799@www.believersband.com
SUMMARY:SJ Lakewood Baptist Church
DESCRIPTION:
URL:https://www.believersband.com/event/lakewood-baptist-church/
LOCATION:Lakewood Baptist Church\, 2235 Thompson Bridge Rd.\, Gainesville\, GA\, 30506\, United States
CATEGORIES:Public,Southern Journey Big Band
END:VEVENT
BEGIN:VEVENT
DTSTART;TZID=America/New_York:20250313T183000
DTEND;TZID=America/New_York:20250313T203000
DTSTAMP:20260424T052303
CREATED:20250115T215458Z
LAST-MODIFIED:20250205T170216Z
UID:8861-1741890600-1741897800@www.believersband.com
SUMMARY:SJ Rehearsal
DESCRIPTION:
URL:https://www.believersband.com/event/sj-rehearsal-20/
LOCATION:Gainesville First United Methodist Church
CATEGORIES:Southern Journey
END:VEVENT
BEGIN:VEVENT
DTSTART;TZID=America/New_York:20250313T163000
DTEND;TZID=America/New_York:20250313T183000
DTSTAMP:20260424T052303
CREATED:20241029T194305Z
LAST-MODIFIED:20241113T164526Z
UID:8572-1741883400-1741890600@www.believersband.com
SUMMARY:Board Meeting
DESCRIPTION:Room S-49
URL:https://www.believersband.com/event/board-meeting-13/
LOCATION:Gainesville First United Methodist Church
CATEGORIES:Board
END:VEVENT
BEGIN:VEVENT
DTSTART;TZID=America/New_York:20250310T180000
DTEND;TZID=America/New_York:20250310T200000
DTSTAMP:20260424T052303
CREATED:20241002T164849Z
LAST-MODIFIED:20241002T164849Z
UID:8501-1741629600-1741636800@www.believersband.com
SUMMARY:BB Rehearsal
DESCRIPTION:
URL:https://www.believersband.com/event/bb-rehearsal-108/
LOCATION:Gainesville First United Methodist Church
CATEGORIES:Believers Band
END:VEVENT
BEGIN:VEVENT
DTSTART;TZID=America/New_York:20250308T190000
DTEND;TZID=America/New_York:20250308T200000
DTSTAMP:20260424T052303
CREATED:20250116T163532Z
LAST-MODIFIED:20250220T164829Z
UID:8869-1741460400-1741464000@www.believersband.com
SUMMARY:SJ Brenau Radio Hour
DESCRIPTION:Pearce Auditorium\nCall Time: 6:00pm
URL:https://www.believersband.com/event/brenau-radio-hour/
LOCATION:Brenau University
CATEGORIES:Public,Southern Journey Big Band
END:VEVENT
BEGIN:VEVENT
DTSTART;TZID=America/New_York:20250304T180000
DTEND;TZID=America/New_York:20250304T200000
DTSTAMP:20260424T052303
CREATED:20250116T162110Z
LAST-MODIFIED:20250220T163625Z
UID:8866-1741111200-1741118400@www.believersband.com
SUMMARY:SJ Dress Rehearsal
DESCRIPTION:Pearce Auditorium
URL:https://www.believersband.com/event/dress-rehearsal-5/
LOCATION:Brenau University
CATEGORIES:Southern Journey Big Band
END:VEVENT
BEGIN:VEVENT
DTSTART;TZID=America/New_York:20250303T180000
DTEND;TZID=America/New_York:20250303T200000
DTSTAMP:20260424T052303
CREATED:20241002T164847Z
LAST-MODIFIED:20241002T164847Z
UID:8500-1741024800-1741032000@www.believersband.com
SUMMARY:BB Rehearsal
DESCRIPTION:
URL:https://www.believersband.com/event/bb-rehearsal-107/
LOCATION:Gainesville First United Methodist Church
CATEGORIES:Believers Band
END:VEVENT
END:VCALENDAR