BEGIN:VCALENDAR
VERSION:2.0
PRODID:-//  The Believers Concert Band - ECPv6.15.20//NONSGML v1.0//EN
CALSCALE:GREGORIAN
METHOD:PUBLISH
X-WR-CALNAME:  The Believers Concert Band
X-ORIGINAL-URL:https://www.believersband.com
X-WR-CALDESC:Events for   The Believers Concert Band
REFRESH-INTERVAL;VALUE=DURATION:PT1H
X-Robots-Tag:noindex
X-PUBLISHED-TTL:PT1H
BEGIN:VTIMEZONE
TZID:America/New_York
BEGIN:DAYLIGHT
TZOFFSETFROM:-0500
TZOFFSETTO:-0400
TZNAME:EDT
DTSTART:20210314T070000
END:DAYLIGHT
BEGIN:STANDARD
TZOFFSETFROM:-0400
TZOFFSETTO:-0500
TZNAME:EST
DTSTART:20211107T060000
END:STANDARD
BEGIN:DAYLIGHT
TZOFFSETFROM:-0500
TZOFFSETTO:-0400
TZNAME:EDT
DTSTART:20220313T070000
END:DAYLIGHT
BEGIN:STANDARD
TZOFFSETFROM:-0400
TZOFFSETTO:-0500
TZNAME:EST
DTSTART:20221106T060000
END:STANDARD
BEGIN:DAYLIGHT
TZOFFSETFROM:-0500
TZOFFSETTO:-0400
TZNAME:EDT
DTSTART:20230312T070000
END:DAYLIGHT
BEGIN:STANDARD
TZOFFSETFROM:-0400
TZOFFSETTO:-0500
TZNAME:EST
DTSTART:20231105T060000
END:STANDARD
END:VTIMEZONE
BEGIN:VEVENT
DTSTART;TZID=America/New_York:20221119T180000
DTEND;TZID=America/New_York:20221119T200000
DTSTAMP:20260425T124403
CREATED:20221103T134900Z
LAST-MODIFIED:20221214T210845Z
UID:6189-1668880800-1668888000@www.believersband.com
SUMMARY:Jingle Mingle
DESCRIPTION:Start your holiday season off right by joining the Believers Concert Band for the Jingle Mingle on the Downtown Square in Gainesville.\n \nThe Jingle Mingle and the Lighting of the Chicken is always a fun event for the entire family.  Join us at the Main Street Market at 6 PM and let us light your holiday spirit.
URL:https://www.believersband.com/event/jingle-mingle/
CATEGORIES:Believers Band,Public
END:VEVENT
BEGIN:VEVENT
DTSTART;TZID=America/New_York:20221111T190000
DTEND;TZID=America/New_York:20221111T190000
DTSTAMP:20260425T124403
CREATED:20221103T133022Z
LAST-MODIFIED:20221214T210832Z
UID:6187-1668193200-1668193200@www.believersband.com
SUMMARY:Veterans Concert
DESCRIPTION:The Believers Concert Band is excited to present a special Veterans Day tribute concert on Friday\, November 11\, 2022\, 7 pm – Sanctuary at Gainesville First United Methodist Church\, 2780 Thompson Bridge Road\, Gainesville\, GA.\n \nWe want to pay tribute to our veterans and their families and give thanks for the sacrifices they make in service to our country. The 50-piece band will present a selection of patriotic music that includes familiar favorites as well as a few new pieces we are sure you will enjoy. There will be something for everyone.\n \nGFUMC is extremely generous to provide the Believers Band with a regular rehearsal space and is a beautiful venue for this celebration of our nation’s veterans. The concert is free and everyone is welcome! Invite a friend.\n \nWear your red\, white\, and blue\, if your wish\, and join The Believers Concert Band in the GFUMC sanctuary for a fun evening of patriotic music and gratitude for our veterans.\n \nWe look forward to seeing you there!
URL:https://www.believersband.com/event/bb-veterans-concert/
LOCATION:Gainesville First United Methodist Church
CATEGORIES:Believers Band,Public
END:VEVENT
END:VCALENDAR