BEGIN:VCALENDAR
VERSION:2.0
PRODID:-//  The Believers Concert Band - ECPv6.15.20//NONSGML v1.0//EN
CALSCALE:GREGORIAN
METHOD:PUBLISH
X-WR-CALNAME:  The Believers Concert Band
X-ORIGINAL-URL:https://www.believersband.com
X-WR-CALDESC:Events for   The Believers Concert Band
REFRESH-INTERVAL;VALUE=DURATION:PT1H
X-Robots-Tag:noindex
X-PUBLISHED-TTL:PT1H
BEGIN:VTIMEZONE
TZID:America/New_York
BEGIN:DAYLIGHT
TZOFFSETFROM:-0500
TZOFFSETTO:-0400
TZNAME:EDT
DTSTART:20220313T070000
END:DAYLIGHT
BEGIN:STANDARD
TZOFFSETFROM:-0400
TZOFFSETTO:-0500
TZNAME:EST
DTSTART:20221106T060000
END:STANDARD
BEGIN:DAYLIGHT
TZOFFSETFROM:-0500
TZOFFSETTO:-0400
TZNAME:EDT
DTSTART:20230312T070000
END:DAYLIGHT
BEGIN:STANDARD
TZOFFSETFROM:-0400
TZOFFSETTO:-0500
TZNAME:EST
DTSTART:20231105T060000
END:STANDARD
BEGIN:DAYLIGHT
TZOFFSETFROM:-0500
TZOFFSETTO:-0400
TZNAME:EDT
DTSTART:20240310T070000
END:DAYLIGHT
BEGIN:STANDARD
TZOFFSETFROM:-0400
TZOFFSETTO:-0500
TZNAME:EST
DTSTART:20241103T060000
END:STANDARD
BEGIN:DAYLIGHT
TZOFFSETFROM:-0500
TZOFFSETTO:-0400
TZNAME:EDT
DTSTART:20250309T070000
END:DAYLIGHT
BEGIN:STANDARD
TZOFFSETFROM:-0400
TZOFFSETTO:-0500
TZNAME:EST
DTSTART:20251102T060000
END:STANDARD
END:VTIMEZONE
BEGIN:VEVENT
DTSTART;TZID=America/New_York:20241005T180000
DTEND;TZID=America/New_York:20241005T200000
DTSTAMP:20260425T115215
CREATED:20240912T235940Z
LAST-MODIFIED:20240912T235940Z
UID:8312-1728151200-1728158400@www.believersband.com
SUMMARY:Swing Dance
DESCRIPTION:4pm       Set Up\n4:30pm  Sound Check
URL:https://www.believersband.com/event/swing-dance/
LOCATION:Reunion Country Club\, 5609 Grand Reunion Dr.\, Hoschton\, GA\, 30548\, United States
CATEGORIES:Southern Journey Big Band
END:VEVENT
BEGIN:VEVENT
DTSTART;TZID=America/New_York:20241003T183000
DTEND;TZID=America/New_York:20241003T203000
DTSTAMP:20260425T115215
CREATED:20240912T154324Z
LAST-MODIFIED:20240912T154324Z
UID:8303-1727980200-1727987400@www.believersband.com
SUMMARY:SJ Rehearsal
DESCRIPTION:
URL:https://www.believersband.com/event/sj-rehearsal-11/
LOCATION:Gainesville First United Methodist Church
CATEGORIES:Southern Journey Big Band
END:VEVENT
BEGIN:VEVENT
DTSTART;TZID=America/New_York:20240930T180000
DTEND;TZID=America/New_York:20240930T200000
DTSTAMP:20260425T115215
CREATED:20240912T140650Z
LAST-MODIFIED:20240912T140650Z
UID:8246-1727719200-1727726400@www.believersband.com
SUMMARY:BB Rehearsal
DESCRIPTION:Choir Room in Music Wing at GFUMC.
URL:https://www.believersband.com/event/bb-rehearsal-54/
LOCATION:Gainesville First United Methodist Church
CATEGORIES:Believers Band
END:VEVENT
BEGIN:VEVENT
DTSTART;TZID=America/New_York:20240926T183000
DTEND;TZID=America/New_York:20240926T203000
DTSTAMP:20260425T115215
CREATED:20240912T141903Z
LAST-MODIFIED:20240912T153920Z
UID:8258-1727375400-1727382600@www.believersband.com
SUMMARY:SJ Rehearsal
DESCRIPTION:
URL:https://www.believersband.com/event/sj-rehearsal-3/
LOCATION:Gainesville First United Methodist Church
CATEGORIES:Southern Journey Big Band
END:VEVENT
BEGIN:VEVENT
DTSTART;TZID=America/New_York:20240923T180000
DTEND;TZID=America/New_York:20240923T200000
DTSTAMP:20260425T115215
CREATED:20240912T140507Z
LAST-MODIFIED:20240912T140832Z
UID:8244-1727114400-1727121600@www.believersband.com
SUMMARY:BB Rehearsal
DESCRIPTION:Choir Room in Music Wing at GFUMC.
URL:https://www.believersband.com/event/bb-rehearsal-53/
LOCATION:Gainesville First United Methodist Church
CATEGORIES:Believers Band
END:VEVENT
BEGIN:VEVENT
DTSTART;TZID=America/New_York:20240919T183000
DTEND;TZID=America/New_York:20240919T203000
DTSTAMP:20260425T115215
CREATED:20240912T141800Z
LAST-MODIFIED:20240912T153933Z
UID:8256-1726770600-1726777800@www.believersband.com
SUMMARY:SJ Rehearsal
DESCRIPTION:
URL:https://www.believersband.com/event/sj-rehearsal-2/
LOCATION:Gainesville First United Methodist Church
CATEGORIES:Southern Journey Big Band
END:VEVENT
BEGIN:VEVENT
DTSTART;TZID=America/New_York:20240916T180000
DTEND;TZID=America/New_York:20240916T200000
DTSTAMP:20260425T115215
CREATED:20240912T140352Z
LAST-MODIFIED:20240912T140913Z
UID:8242-1726509600-1726516800@www.believersband.com
SUMMARY:BB Rehearsal
DESCRIPTION:Choir Room in Music Wing at GFUMC.
URL:https://www.believersband.com/event/bb-rehearsal-52/
LOCATION:Gainesville First United Methodist Church
CATEGORIES:Believers Band
END:VEVENT
BEGIN:VEVENT
DTSTART;TZID=America/New_York:20240915T083000
DTEND;TZID=America/New_York:20240915T093000
DTSTAMP:20260425T115215
CREATED:20240803T191107Z
LAST-MODIFIED:20240912T160708Z
UID:8174-1726389000-1726392600@www.believersband.com
SUMMARY:Lakeside Service
DESCRIPTION:7:30 am – Percussion and anyone that can help move equipment \n7:45 am – Arrive at GFUMC – Set-up \n7:55 am – Be in your seats \n8:00 – 8:20 am –  Warm-up and tune \n8:20 am – Break (hopefully) \n8:25 am – Be in your seats \n8:27 – 9:30 am Service
URL:https://www.believersband.com/event/lakeside-service/
LOCATION:Gainesville First United Methodist Church
CATEGORIES:Believers Band,Public
END:VEVENT
BEGIN:VEVENT
DTSTART;TZID=America/New_York:20240912T183000
DTEND;TZID=America/New_York:20240912T203000
DTSTAMP:20260425T115215
CREATED:20240912T141635Z
LAST-MODIFIED:20240912T153644Z
UID:8254-1726165800-1726173000@www.believersband.com
SUMMARY:SJ Rehearsal
DESCRIPTION:
URL:https://www.believersband.com/event/sj-rehearsal/
LOCATION:Gainesville First United Methodist Church
CATEGORIES:Southern Journey Big Band
END:VEVENT
BEGIN:VEVENT
DTSTART;TZID=America/New_York:20240912T163000
DTEND;TZID=America/New_York:20240912T183000
DTSTAMP:20260425T115215
CREATED:20240912T141236Z
LAST-MODIFIED:20240914T200831Z
UID:8251-1726158600-1726165800@www.believersband.com
SUMMARY:Board Meeting
DESCRIPTION:Downstairs in Room 123
URL:https://www.believersband.com/event/board-meeting-7/
LOCATION:Gainesville First United Methodist Church
CATEGORIES:Board
END:VEVENT
BEGIN:VEVENT
DTSTART;TZID=America/New_York:20240909T180000
DTEND;TZID=America/New_York:20240909T200000
DTSTAMP:20260425T115215
CREATED:20240912T140130Z
LAST-MODIFIED:20240912T140950Z
UID:8239-1725904800-1725912000@www.believersband.com
SUMMARY:BB Rehearsal
DESCRIPTION:Choir Room in Music Wing at GFUMC.
URL:https://www.believersband.com/event/believers-band-rehearsal/
LOCATION:Gainesville First United Methodist Church
CATEGORIES:Believers Band
END:VEVENT
BEGIN:VEVENT
DTSTART;TZID=America/New_York:20240806T180000
DTEND;TZID=America/New_York:20240806T200000
DTSTAMP:20260425T115215
CREATED:20240803T184757Z
LAST-MODIFIED:20240803T191632Z
UID:8165-1722967200-1722974400@www.believersband.com
SUMMARY:Back to Band Social
DESCRIPTION:
URL:https://www.believersband.com/event/back-to-band-social/
LOCATION:Johnny’s New York Pizza\, 114 Jesse Jewel Pwy\, Gainesville\, GA\, 30501\, United States
CATEGORIES:Believers Band
END:VEVENT
BEGIN:VEVENT
DTSTART;TZID=America/New_York:20231218T180000
DTEND;TZID=America/New_York:20231218T180000
DTSTAMP:20260425T115215
CREATED:20221214T210618Z
LAST-MODIFIED:20221214T210618Z
UID:6421-1702922400-1702922400@www.believersband.com
SUMMARY:BB Rehearsal
DESCRIPTION:
URL:https://www.believersband.com/event/bb-rehearsal-50/
LOCATION:Gainesville First United Methodist Church
CATEGORIES:Believers Band
END:VEVENT
BEGIN:VEVENT
DTSTART;TZID=America/New_York:20231211T180000
DTEND;TZID=America/New_York:20231211T180000
DTSTAMP:20260425T115215
CREATED:20221214T210610Z
LAST-MODIFIED:20221214T210610Z
UID:6420-1702317600-1702317600@www.believersband.com
SUMMARY:BB Rehearsal
DESCRIPTION:
URL:https://www.believersband.com/event/bb-rehearsal-49/
LOCATION:Gainesville First United Methodist Church
CATEGORIES:Believers Band
END:VEVENT
BEGIN:VEVENT
DTSTART;TZID=America/New_York:20231204T180000
DTEND;TZID=America/New_York:20231204T180000
DTSTAMP:20260425T115215
CREATED:20221214T210409Z
LAST-MODIFIED:20221214T210409Z
UID:6419-1701712800-1701712800@www.believersband.com
SUMMARY:BB Rehearsal
DESCRIPTION:
URL:https://www.believersband.com/event/bb-rehearsal-48/
LOCATION:Gainesville First United Methodist Church
CATEGORIES:Believers Band
END:VEVENT
BEGIN:VEVENT
DTSTART;TZID=America/New_York:20231127T180000
DTEND;TZID=America/New_York:20231127T180000
DTSTAMP:20260425T115215
CREATED:20221214T210408Z
LAST-MODIFIED:20221214T210408Z
UID:6418-1701108000-1701108000@www.believersband.com
SUMMARY:BB Rehearsal
DESCRIPTION:
URL:https://www.believersband.com/event/bb-rehearsal-47/
LOCATION:Gainesville First United Methodist Church
CATEGORIES:Believers Band
END:VEVENT
BEGIN:VEVENT
DTSTART;TZID=America/New_York:20231120T180000
DTEND;TZID=America/New_York:20231120T180000
DTSTAMP:20260425T115215
CREATED:20221214T210407Z
LAST-MODIFIED:20221214T210407Z
UID:6417-1700503200-1700503200@www.believersband.com
SUMMARY:BB Rehearsal
DESCRIPTION:
URL:https://www.believersband.com/event/bb-rehearsal-46/
LOCATION:Gainesville First United Methodist Church
CATEGORIES:Believers Band
END:VEVENT
BEGIN:VEVENT
DTSTART;TZID=America/New_York:20231113T180000
DTEND;TZID=America/New_York:20231113T180000
DTSTAMP:20260425T115215
CREATED:20221214T210405Z
LAST-MODIFIED:20221214T210405Z
UID:6416-1699898400-1699898400@www.believersband.com
SUMMARY:BB Rehearsal
DESCRIPTION:
URL:https://www.believersband.com/event/bb-rehearsal-45/
LOCATION:Gainesville First United Methodist Church
CATEGORIES:Believers Band
END:VEVENT
BEGIN:VEVENT
DTSTART;TZID=America/New_York:20231111T160000
DTEND;TZID=America/New_York:20231111T170000
DTSTAMP:20260425T115215
CREATED:20230320T151258Z
LAST-MODIFIED:20230320T151258Z
UID:6749-1699718400-1699722000@www.believersband.com
SUMMARY:Veterans Day Concert
DESCRIPTION:
URL:https://www.believersband.com/event/veterans-day-concert/
LOCATION:Gainesville First United Methodist Church
CATEGORIES:Believers Band,Public
END:VEVENT
BEGIN:VEVENT
DTSTART;TZID=America/New_York:20231106T180000
DTEND;TZID=America/New_York:20231106T180000
DTSTAMP:20260425T115215
CREATED:20221214T210401Z
LAST-MODIFIED:20221214T210401Z
UID:6415-1699293600-1699293600@www.believersband.com
SUMMARY:BB Rehearsal
DESCRIPTION:
URL:https://www.believersband.com/event/bb-rehearsal-44/
LOCATION:Gainesville First United Methodist Church
CATEGORIES:Believers Band
END:VEVENT
BEGIN:VEVENT
DTSTART;TZID=America/New_York:20231030T180000
DTEND;TZID=America/New_York:20231030T180000
DTSTAMP:20260425T115215
CREATED:20221214T210349Z
LAST-MODIFIED:20221214T210349Z
UID:6414-1698688800-1698688800@www.believersband.com
SUMMARY:BB Rehearsal
DESCRIPTION:
URL:https://www.believersband.com/event/bb-rehearsal-43/
LOCATION:Gainesville First United Methodist Church
CATEGORIES:Believers Band
END:VEVENT
BEGIN:VEVENT
DTSTART;TZID=America/New_York:20231023T180000
DTEND;TZID=America/New_York:20231023T180000
DTSTAMP:20260425T115215
CREATED:20221214T210347Z
LAST-MODIFIED:20221214T210347Z
UID:6413-1698084000-1698084000@www.believersband.com
SUMMARY:BB Rehearsal
DESCRIPTION:
URL:https://www.believersband.com/event/bb-rehearsal-42/
LOCATION:Gainesville First United Methodist Church
CATEGORIES:Believers Band
END:VEVENT
BEGIN:VEVENT
DTSTART;TZID=America/New_York:20231016T180000
DTEND;TZID=America/New_York:20231016T180000
DTSTAMP:20260425T115215
CREATED:20221214T210345Z
LAST-MODIFIED:20221214T210345Z
UID:6412-1697479200-1697479200@www.believersband.com
SUMMARY:BB Rehearsal
DESCRIPTION:
URL:https://www.believersband.com/event/bb-rehearsal-41/
LOCATION:Gainesville First United Methodist Church
CATEGORIES:Believers Band
END:VEVENT
BEGIN:VEVENT
DTSTART;TZID=America/New_York:20231009T180000
DTEND;TZID=America/New_York:20231009T180000
DTSTAMP:20260425T115215
CREATED:20221214T210344Z
LAST-MODIFIED:20221214T210344Z
UID:6411-1696874400-1696874400@www.believersband.com
SUMMARY:BB Rehearsal
DESCRIPTION:
URL:https://www.believersband.com/event/bb-rehearsal-40/
LOCATION:Gainesville First United Methodist Church
CATEGORIES:Believers Band
END:VEVENT
BEGIN:VEVENT
DTSTART;TZID=America/New_York:20231002T180000
DTEND;TZID=America/New_York:20231002T180000
DTSTAMP:20260425T115215
CREATED:20221214T210339Z
LAST-MODIFIED:20221214T210339Z
UID:6410-1696269600-1696269600@www.believersband.com
SUMMARY:BB Rehearsal
DESCRIPTION:
URL:https://www.believersband.com/event/bb-rehearsal-39/
LOCATION:Gainesville First United Methodist Church
CATEGORIES:Believers Band
END:VEVENT
BEGIN:VEVENT
DTSTART;TZID=America/New_York:20230925T180000
DTEND;TZID=America/New_York:20230925T180000
DTSTAMP:20260425T115215
CREATED:20221214T210333Z
LAST-MODIFIED:20221214T210333Z
UID:6409-1695664800-1695664800@www.believersband.com
SUMMARY:BB Rehearsal
DESCRIPTION:
URL:https://www.believersband.com/event/bb-rehearsal-38/
LOCATION:Gainesville First United Methodist Church
CATEGORIES:Believers Band
END:VEVENT
BEGIN:VEVENT
DTSTART;TZID=America/New_York:20230918T180000
DTEND;TZID=America/New_York:20230918T180000
DTSTAMP:20260425T115215
CREATED:20221214T210331Z
LAST-MODIFIED:20221214T210331Z
UID:6408-1695060000-1695060000@www.believersband.com
SUMMARY:BB Rehearsal
DESCRIPTION:
URL:https://www.believersband.com/event/bb-rehearsal-37/
LOCATION:Gainesville First United Methodist Church
CATEGORIES:Believers Band
END:VEVENT
BEGIN:VEVENT
DTSTART;TZID=America/New_York:20230911T180000
DTEND;TZID=America/New_York:20230911T180000
DTSTAMP:20260425T115215
CREATED:20221214T210329Z
LAST-MODIFIED:20221214T210329Z
UID:6407-1694455200-1694455200@www.believersband.com
SUMMARY:BB Rehearsal
DESCRIPTION:
URL:https://www.believersband.com/event/bb-rehearsal-36/
LOCATION:Gainesville First United Methodist Church
CATEGORIES:Believers Band
END:VEVENT
BEGIN:VEVENT
DTSTART;TZID=America/New_York:20230904T180000
DTEND;TZID=America/New_York:20230904T180000
DTSTAMP:20260425T115215
CREATED:20221214T210328Z
LAST-MODIFIED:20221214T210328Z
UID:6406-1693850400-1693850400@www.believersband.com
SUMMARY:BB Rehearsal
DESCRIPTION:
URL:https://www.believersband.com/event/bb-rehearsal-35/
LOCATION:Gainesville First United Methodist Church
CATEGORIES:Believers Band
END:VEVENT
BEGIN:VEVENT
DTSTART;TZID=America/New_York:20230828T180000
DTEND;TZID=America/New_York:20230828T180000
DTSTAMP:20260425T115215
CREATED:20221214T210324Z
LAST-MODIFIED:20221214T210324Z
UID:6405-1693245600-1693245600@www.believersband.com
SUMMARY:BB Rehearsal
DESCRIPTION:
URL:https://www.believersband.com/event/bb-rehearsal-34/
LOCATION:Gainesville First United Methodist Church
CATEGORIES:Believers Band
END:VEVENT
END:VCALENDAR