BEGIN:VCALENDAR
VERSION:2.0
PRODID:-//  The Believers Concert Band - ECPv6.15.20//NONSGML v1.0//EN
CALSCALE:GREGORIAN
METHOD:PUBLISH
X-ORIGINAL-URL:https://www.believersband.com
X-WR-CALDESC:Events for   The Believers Concert Band
REFRESH-INTERVAL;VALUE=DURATION:PT1H
X-Robots-Tag:noindex
X-PUBLISHED-TTL:PT1H
BEGIN:VTIMEZONE
TZID:America/New_York
BEGIN:DAYLIGHT
TZOFFSETFROM:-0500
TZOFFSETTO:-0400
TZNAME:EDT
DTSTART:20250309T070000
END:DAYLIGHT
BEGIN:STANDARD
TZOFFSETFROM:-0400
TZOFFSETTO:-0500
TZNAME:EST
DTSTART:20251102T060000
END:STANDARD
BEGIN:DAYLIGHT
TZOFFSETFROM:-0500
TZOFFSETTO:-0400
TZNAME:EDT
DTSTART:20260308T070000
END:DAYLIGHT
BEGIN:STANDARD
TZOFFSETFROM:-0400
TZOFFSETTO:-0500
TZNAME:EST
DTSTART:20261101T060000
END:STANDARD
BEGIN:DAYLIGHT
TZOFFSETFROM:-0500
TZOFFSETTO:-0400
TZNAME:EDT
DTSTART:20270314T070000
END:DAYLIGHT
BEGIN:STANDARD
TZOFFSETFROM:-0400
TZOFFSETTO:-0500
TZNAME:EST
DTSTART:20271107T060000
END:STANDARD
END:VTIMEZONE
BEGIN:VEVENT
DTSTART;TZID=America/New_York:20260402T183000
DTEND;TZID=America/New_York:20260402T203000
DTSTAMP:20260423T163909
CREATED:20251211T205413Z
LAST-MODIFIED:20251211T205413Z
UID:10144-1775154600-1775161800@www.believersband.com
SUMMARY:SJ Rehearsal
DESCRIPTION:
URL:https://www.believersband.com/event/sj-rehearsal-70/
LOCATION:Gainesville First United Methodist Church
END:VEVENT
BEGIN:VEVENT
DTSTART;TZID=America/New_York:20260406T180000
DTEND;TZID=America/New_York:20260406T200000
DTSTAMP:20260423T163909
CREATED:20251211T202850Z
LAST-MODIFIED:20251211T202850Z
UID:10116-1775498400-1775505600@www.believersband.com
SUMMARY:BB Rehearsal
DESCRIPTION:
URL:https://www.believersband.com/event/bb-rehearsal-152/
LOCATION:Gainesville First United Methodist Church
END:VEVENT
BEGIN:VEVENT
DTSTART;TZID=America/New_York:20260409T183000
DTEND;TZID=America/New_York:20260409T203000
DTSTAMP:20260423T163909
CREATED:20251211T205415Z
LAST-MODIFIED:20251211T205415Z
UID:10145-1775759400-1775766600@www.believersband.com
SUMMARY:SJ Rehearsal
DESCRIPTION:
URL:https://www.believersband.com/event/sj-rehearsal-71/
LOCATION:Gainesville First United Methodist Church
END:VEVENT
BEGIN:VEVENT
DTSTART;TZID=America/New_York:20260413T180000
DTEND;TZID=America/New_York:20260413T200000
DTSTAMP:20260423T163909
CREATED:20251211T202852Z
LAST-MODIFIED:20251211T202852Z
UID:10117-1776103200-1776110400@www.believersband.com
SUMMARY:BB Rehearsal
DESCRIPTION:
URL:https://www.believersband.com/event/bb-rehearsal-153/
LOCATION:Gainesville First United Methodist Church
END:VEVENT
BEGIN:VEVENT
DTSTART;TZID=America/New_York:20260416T183000
DTEND;TZID=America/New_York:20260416T203000
DTSTAMP:20260423T163909
CREATED:20251211T205416Z
LAST-MODIFIED:20251211T205416Z
UID:10146-1776364200-1776371400@www.believersband.com
SUMMARY:SJ Rehearsal
DESCRIPTION:
URL:https://www.believersband.com/event/sj-rehearsal-72/
LOCATION:Gainesville First United Methodist Church
END:VEVENT
BEGIN:VEVENT
DTSTART;TZID=America/New_York:20260420T180000
DTEND;TZID=America/New_York:20260420T200000
DTSTAMP:20260423T163909
CREATED:20251211T202858Z
LAST-MODIFIED:20251211T202858Z
UID:10118-1776708000-1776715200@www.believersband.com
SUMMARY:BB Rehearsal
DESCRIPTION:
URL:https://www.believersband.com/event/bb-rehearsal-154/
LOCATION:Gainesville First United Methodist Church
END:VEVENT
BEGIN:VEVENT
DTSTART;TZID=America/New_York:20260423T183000
DTEND;TZID=America/New_York:20260423T203000
DTSTAMP:20260423T163909
CREATED:20251211T205424Z
LAST-MODIFIED:20251211T205424Z
UID:10147-1776969000-1776976200@www.believersband.com
SUMMARY:SJ Rehearsal
DESCRIPTION:
URL:https://www.believersband.com/event/sj-rehearsal-73/
LOCATION:Gainesville First United Methodist Church
END:VEVENT
BEGIN:VEVENT
DTSTART;TZID=America/New_York:20260427T180000
DTEND;TZID=America/New_York:20260427T200000
DTSTAMP:20260423T163909
CREATED:20251211T202900Z
LAST-MODIFIED:20251211T202900Z
UID:10119-1777312800-1777320000@www.believersband.com
SUMMARY:BB Rehearsal
DESCRIPTION:
URL:https://www.believersband.com/event/bb-rehearsal-155/
LOCATION:Gainesville First United Methodist Church
END:VEVENT
BEGIN:VEVENT
DTSTART;TZID=America/New_York:20260430T183000
DTEND;TZID=America/New_York:20260430T203000
DTSTAMP:20260423T163909
CREATED:20251211T205425Z
LAST-MODIFIED:20251211T205425Z
UID:10148-1777573800-1777581000@www.believersband.com
SUMMARY:SJ Rehearsal
DESCRIPTION:
URL:https://www.believersband.com/event/sj-rehearsal-74/
LOCATION:Gainesville First United Methodist Church
END:VEVENT
BEGIN:VEVENT
DTSTART;TZID=America/New_York:20260502T090000
DTEND;TZID=America/New_York:20260502T120000
DTSTAMP:20260423T163909
CREATED:20260324T002137Z
LAST-MODIFIED:20260324T002137Z
UID:10540-1777712400-1777723200@www.believersband.com
SUMMARY:BB From Stage to Screen Concert Dress Rehearsal
DESCRIPTION:
URL:https://www.believersband.com/event/bb-from-stage-to-screen-concert-dress-rehearsal/
LOCATION:Gainesville First United Methodist Church
CATEGORIES:Believers Band
END:VEVENT
BEGIN:VEVENT
DTSTART;TZID=America/New_York:20260503T160000
DTEND;TZID=America/New_York:20260503T180000
DTSTAMP:20260423T163909
CREATED:20250927T042500Z
LAST-MODIFIED:20260324T001613Z
UID:9768-1777824000-1777831200@www.believersband.com
SUMMARY:BB From Stage to Screen Concert
DESCRIPTION:
URL:https://www.believersband.com/event/bb-spring-concert/
LOCATION:Gainesville First United Methodist Church
CATEGORIES:Believers Band,Public
END:VEVENT
BEGIN:VEVENT
DTSTART;TZID=America/New_York:20260504T180000
DTEND;TZID=America/New_York:20260504T200000
DTSTAMP:20260423T163909
CREATED:20251211T202903Z
LAST-MODIFIED:20251211T202903Z
UID:10120-1777917600-1777924800@www.believersband.com
SUMMARY:BB Rehearsal
DESCRIPTION:
URL:https://www.believersband.com/event/bb-rehearsal-156/
LOCATION:Gainesville First United Methodist Church
END:VEVENT
BEGIN:VEVENT
DTSTART;TZID=America/New_York:20260507T183000
DTEND;TZID=America/New_York:20260507T203000
DTSTAMP:20260423T163909
CREATED:20251211T205427Z
LAST-MODIFIED:20251211T205427Z
UID:10149-1778178600-1778185800@www.believersband.com
SUMMARY:SJ Rehearsal
DESCRIPTION:
URL:https://www.believersband.com/event/sj-rehearsal-75/
LOCATION:Gainesville First United Methodist Church
END:VEVENT
BEGIN:VEVENT
DTSTART;TZID=America/New_York:20260511T180000
DTEND;TZID=America/New_York:20260511T200000
DTSTAMP:20260423T163909
CREATED:20251211T202906Z
LAST-MODIFIED:20251211T202906Z
UID:10121-1778522400-1778529600@www.believersband.com
SUMMARY:BB Rehearsal
DESCRIPTION:
URL:https://www.believersband.com/event/bb-rehearsal-157/
LOCATION:Gainesville First United Methodist Church
END:VEVENT
BEGIN:VEVENT
DTSTART;TZID=America/New_York:20260514T183000
DTEND;TZID=America/New_York:20260514T203000
DTSTAMP:20260423T163909
CREATED:20251211T205428Z
LAST-MODIFIED:20251211T205428Z
UID:10150-1778783400-1778790600@www.believersband.com
SUMMARY:SJ Rehearsal
DESCRIPTION:
URL:https://www.believersband.com/event/sj-rehearsal-76/
LOCATION:Gainesville First United Methodist Church
END:VEVENT
BEGIN:VEVENT
DTSTART;TZID=America/New_York:20260518T180000
DTEND;TZID=America/New_York:20260518T200000
DTSTAMP:20260423T163909
CREATED:20251211T202910Z
LAST-MODIFIED:20251211T202910Z
UID:10122-1779127200-1779134400@www.believersband.com
SUMMARY:BB Rehearsal
DESCRIPTION:
URL:https://www.believersband.com/event/bb-rehearsal-158/
LOCATION:Gainesville First United Methodist Church
END:VEVENT
BEGIN:VEVENT
DTSTART;TZID=America/New_York:20260521T183000
DTEND;TZID=America/New_York:20260521T203000
DTSTAMP:20260423T163909
CREATED:20251211T205430Z
LAST-MODIFIED:20251211T205430Z
UID:10151-1779388200-1779395400@www.believersband.com
SUMMARY:SJ Rehearsal
DESCRIPTION:
URL:https://www.believersband.com/event/sj-rehearsal-77/
LOCATION:Gainesville First United Methodist Church
END:VEVENT
BEGIN:VEVENT
DTSTART;TZID=America/New_York:20260525T180000
DTEND;TZID=America/New_York:20260525T200000
DTSTAMP:20260423T163909
CREATED:20251211T202917Z
LAST-MODIFIED:20251211T202917Z
UID:10123-1779732000-1779739200@www.believersband.com
SUMMARY:BB Rehearsal
DESCRIPTION:
URL:https://www.believersband.com/event/bb-rehearsal-159/
LOCATION:Gainesville First United Methodist Church
END:VEVENT
BEGIN:VEVENT
DTSTART;TZID=America/New_York:20260528T183000
DTEND;TZID=America/New_York:20260528T203000
DTSTAMP:20260423T163909
CREATED:20251211T205439Z
LAST-MODIFIED:20251211T205439Z
UID:10152-1779993000-1780000200@www.believersband.com
SUMMARY:SJ Rehearsal
DESCRIPTION:
URL:https://www.believersband.com/event/sj-rehearsal-78/
LOCATION:Gainesville First United Methodist Church
END:VEVENT
BEGIN:VEVENT
DTSTART;TZID=America/New_York:20260601T180000
DTEND;TZID=America/New_York:20260601T200000
DTSTAMP:20260423T163909
CREATED:20251211T202919Z
LAST-MODIFIED:20251211T202919Z
UID:10124-1780336800-1780344000@www.believersband.com
SUMMARY:BB Rehearsal
DESCRIPTION:
URL:https://www.believersband.com/event/bb-rehearsal-160/
LOCATION:Gainesville First United Methodist Church
END:VEVENT
BEGIN:VEVENT
DTSTART;TZID=America/New_York:20260604T183000
DTEND;TZID=America/New_York:20260604T203000
DTSTAMP:20260423T163909
CREATED:20251211T205444Z
LAST-MODIFIED:20251211T205444Z
UID:10153-1780597800-1780605000@www.believersband.com
SUMMARY:SJ Rehearsal
DESCRIPTION:
URL:https://www.believersband.com/event/sj-rehearsal-79/
LOCATION:Gainesville First United Methodist Church
END:VEVENT
BEGIN:VEVENT
DTSTART;TZID=America/New_York:20260608T180000
DTEND;TZID=America/New_York:20260608T200000
DTSTAMP:20260423T163909
CREATED:20251211T202921Z
LAST-MODIFIED:20251211T202921Z
UID:10125-1780941600-1780948800@www.believersband.com
SUMMARY:BB Rehearsal
DESCRIPTION:
URL:https://www.believersband.com/event/bb-rehearsal-161/
LOCATION:Gainesville First United Methodist Church
END:VEVENT
BEGIN:VEVENT
DTSTART;TZID=America/New_York:20260611T183000
DTEND;TZID=America/New_York:20260611T203000
DTSTAMP:20260423T163909
CREATED:20251211T205445Z
LAST-MODIFIED:20251211T205445Z
UID:10154-1781202600-1781209800@www.believersband.com
SUMMARY:SJ Rehearsal
DESCRIPTION:
URL:https://www.believersband.com/event/sj-rehearsal-80/
LOCATION:Gainesville First United Methodist Church
END:VEVENT
BEGIN:VEVENT
DTSTART;TZID=America/New_York:20260615T180000
DTEND;TZID=America/New_York:20260615T200000
DTSTAMP:20260423T163909
CREATED:20251211T202923Z
LAST-MODIFIED:20251211T202923Z
UID:10126-1781546400-1781553600@www.believersband.com
SUMMARY:BB Rehearsal
DESCRIPTION:
URL:https://www.believersband.com/event/bb-rehearsal-162/
LOCATION:Gainesville First United Methodist Church
END:VEVENT
BEGIN:VEVENT
DTSTART;TZID=America/New_York:20260618T183000
DTEND;TZID=America/New_York:20260618T203000
DTSTAMP:20260423T163909
CREATED:20251211T205447Z
LAST-MODIFIED:20251211T205447Z
UID:10155-1781807400-1781814600@www.believersband.com
SUMMARY:SJ Rehearsal
DESCRIPTION:
URL:https://www.believersband.com/event/sj-rehearsal-81/
LOCATION:Gainesville First United Methodist Church
END:VEVENT
BEGIN:VEVENT
DTSTART;TZID=America/New_York:20260622T180000
DTEND;TZID=America/New_York:20260622T200000
DTSTAMP:20260423T163909
CREATED:20251211T202924Z
LAST-MODIFIED:20251211T202924Z
UID:10127-1782151200-1782158400@www.believersband.com
SUMMARY:BB Rehearsal
DESCRIPTION:
URL:https://www.believersband.com/event/bb-rehearsal-163/
LOCATION:Gainesville First United Methodist Church
END:VEVENT
BEGIN:VEVENT
DTSTART;TZID=America/New_York:20260625T183000
DTEND;TZID=America/New_York:20260625T203000
DTSTAMP:20260423T163909
CREATED:20251211T205448Z
LAST-MODIFIED:20251211T205448Z
UID:10156-1782412200-1782419400@www.believersband.com
SUMMARY:SJ Rehearsal
DESCRIPTION:
URL:https://www.believersband.com/event/sj-rehearsal-82/
LOCATION:Gainesville First United Methodist Church
END:VEVENT
BEGIN:VEVENT
DTSTART;TZID=America/New_York:20260628T160000
DTEND;TZID=America/New_York:20260628T180000
DTSTAMP:20260423T163909
CREATED:20260301T153338Z
LAST-MODIFIED:20260301T153415Z
UID:10313-1782662400-1782669600@www.believersband.com
SUMMARY:BB Patriotic Celebration featuring the GFUMC Chancel Choir
DESCRIPTION:
URL:https://www.believersband.com/event/patriotic-celebration-featuring-the-gfumc-chancel-choir/
LOCATION:Gainesville First United Methodist Church
CATEGORIES:Believers Band,Public
END:VEVENT
BEGIN:VEVENT
DTSTART;TZID=America/New_York:20260702T183000
DTEND;TZID=America/New_York:20260702T203000
DTSTAMP:20260423T163909
CREATED:20251211T205454Z
LAST-MODIFIED:20251211T205454Z
UID:10157-1783017000-1783024200@www.believersband.com
SUMMARY:SJ Rehearsal
DESCRIPTION:
URL:https://www.believersband.com/event/sj-rehearsal-83/
LOCATION:Gainesville First United Methodist Church
END:VEVENT
BEGIN:VEVENT
DTSTART;TZID=America/New_York:20260709T183000
DTEND;TZID=America/New_York:20260709T203000
DTSTAMP:20260423T163909
CREATED:20251211T205455Z
LAST-MODIFIED:20251211T205455Z
UID:10158-1783621800-1783629000@www.believersband.com
SUMMARY:SJ Rehearsal
DESCRIPTION:
URL:https://www.believersband.com/event/sj-rehearsal-84/
LOCATION:Gainesville First United Methodist Church
END:VEVENT
END:VCALENDAR