BEGIN:VCALENDAR
VERSION:2.0
PRODID:-//  The Believers Concert Band - ECPv6.15.20//NONSGML v1.0//EN
CALSCALE:GREGORIAN
METHOD:PUBLISH
X-WR-CALNAME:  The Believers Concert Band
X-ORIGINAL-URL:https://www.believersband.com
X-WR-CALDESC:Events for   The Believers Concert Band
REFRESH-INTERVAL;VALUE=DURATION:PT1H
X-Robots-Tag:noindex
X-PUBLISHED-TTL:PT1H
BEGIN:VTIMEZONE
TZID:America/New_York
BEGIN:DAYLIGHT
TZOFFSETFROM:-0500
TZOFFSETTO:-0400
TZNAME:EDT
DTSTART:20250309T070000
END:DAYLIGHT
BEGIN:STANDARD
TZOFFSETFROM:-0400
TZOFFSETTO:-0500
TZNAME:EST
DTSTART:20251102T060000
END:STANDARD
BEGIN:DAYLIGHT
TZOFFSETFROM:-0500
TZOFFSETTO:-0400
TZNAME:EDT
DTSTART:20260308T070000
END:DAYLIGHT
BEGIN:STANDARD
TZOFFSETFROM:-0400
TZOFFSETTO:-0500
TZNAME:EST
DTSTART:20261101T060000
END:STANDARD
BEGIN:DAYLIGHT
TZOFFSETFROM:-0500
TZOFFSETTO:-0400
TZNAME:EDT
DTSTART:20270314T070000
END:DAYLIGHT
BEGIN:STANDARD
TZOFFSETFROM:-0400
TZOFFSETTO:-0500
TZNAME:EST
DTSTART:20271107T060000
END:STANDARD
END:VTIMEZONE
BEGIN:VEVENT
DTSTART;TZID=America/New_York:20260502T090000
DTEND;TZID=America/New_York:20260502T120000
DTSTAMP:20260423T191418
CREATED:20260324T002137Z
LAST-MODIFIED:20260324T002137Z
UID:10540-1777712400-1777723200@www.believersband.com
SUMMARY:BB From Stage to Screen Concert Dress Rehearsal
DESCRIPTION:
URL:https://www.believersband.com/event/bb-from-stage-to-screen-concert-dress-rehearsal/
LOCATION:Gainesville First United Methodist Church
CATEGORIES:Believers Band
END:VEVENT
BEGIN:VEVENT
DTSTART;TZID=America/New_York:20260430T183000
DTEND;TZID=America/New_York:20260430T203000
DTSTAMP:20260423T191418
CREATED:20251211T205425Z
LAST-MODIFIED:20251211T205425Z
UID:10148-1777573800-1777581000@www.believersband.com
SUMMARY:SJ Rehearsal
DESCRIPTION:
URL:https://www.believersband.com/event/sj-rehearsal-74/
LOCATION:Gainesville First United Methodist Church
END:VEVENT
BEGIN:VEVENT
DTSTART;TZID=America/New_York:20260427T180000
DTEND;TZID=America/New_York:20260427T200000
DTSTAMP:20260423T191418
CREATED:20251211T202900Z
LAST-MODIFIED:20251211T202900Z
UID:10119-1777312800-1777320000@www.believersband.com
SUMMARY:BB Rehearsal
DESCRIPTION:
URL:https://www.believersband.com/event/bb-rehearsal-155/
LOCATION:Gainesville First United Methodist Church
END:VEVENT
BEGIN:VEVENT
DTSTART;TZID=America/New_York:20260423T183000
DTEND;TZID=America/New_York:20260423T203000
DTSTAMP:20260423T191418
CREATED:20251211T205424Z
LAST-MODIFIED:20251211T205424Z
UID:10147-1776969000-1776976200@www.believersband.com
SUMMARY:SJ Rehearsal
DESCRIPTION:
URL:https://www.believersband.com/event/sj-rehearsal-73/
LOCATION:Gainesville First United Methodist Church
END:VEVENT
BEGIN:VEVENT
DTSTART;TZID=America/New_York:20260420T180000
DTEND;TZID=America/New_York:20260420T200000
DTSTAMP:20260423T191418
CREATED:20251211T202858Z
LAST-MODIFIED:20251211T202858Z
UID:10118-1776708000-1776715200@www.believersband.com
SUMMARY:BB Rehearsal
DESCRIPTION:
URL:https://www.believersband.com/event/bb-rehearsal-154/
LOCATION:Gainesville First United Methodist Church
END:VEVENT
BEGIN:VEVENT
DTSTART;TZID=America/New_York:20260416T183000
DTEND;TZID=America/New_York:20260416T203000
DTSTAMP:20260423T191418
CREATED:20251211T205416Z
LAST-MODIFIED:20251211T205416Z
UID:10146-1776364200-1776371400@www.believersband.com
SUMMARY:SJ Rehearsal
DESCRIPTION:
URL:https://www.believersband.com/event/sj-rehearsal-72/
LOCATION:Gainesville First United Methodist Church
END:VEVENT
BEGIN:VEVENT
DTSTART;TZID=America/New_York:20260413T180000
DTEND;TZID=America/New_York:20260413T200000
DTSTAMP:20260423T191418
CREATED:20251211T202852Z
LAST-MODIFIED:20251211T202852Z
UID:10117-1776103200-1776110400@www.believersband.com
SUMMARY:BB Rehearsal
DESCRIPTION:
URL:https://www.believersband.com/event/bb-rehearsal-153/
LOCATION:Gainesville First United Methodist Church
END:VEVENT
BEGIN:VEVENT
DTSTART;TZID=America/New_York:20260409T183000
DTEND;TZID=America/New_York:20260409T203000
DTSTAMP:20260423T191418
CREATED:20251211T205415Z
LAST-MODIFIED:20251211T205415Z
UID:10145-1775759400-1775766600@www.believersband.com
SUMMARY:SJ Rehearsal
DESCRIPTION:
URL:https://www.believersband.com/event/sj-rehearsal-71/
LOCATION:Gainesville First United Methodist Church
END:VEVENT
BEGIN:VEVENT
DTSTART;TZID=America/New_York:20260406T180000
DTEND;TZID=America/New_York:20260406T200000
DTSTAMP:20260423T191418
CREATED:20251211T202850Z
LAST-MODIFIED:20251211T202850Z
UID:10116-1775498400-1775505600@www.believersband.com
SUMMARY:BB Rehearsal
DESCRIPTION:
URL:https://www.believersband.com/event/bb-rehearsal-152/
LOCATION:Gainesville First United Methodist Church
END:VEVENT
BEGIN:VEVENT
DTSTART;TZID=America/New_York:20260402T183000
DTEND;TZID=America/New_York:20260402T203000
DTSTAMP:20260423T191418
CREATED:20251211T205413Z
LAST-MODIFIED:20251211T205413Z
UID:10144-1775154600-1775161800@www.believersband.com
SUMMARY:SJ Rehearsal
DESCRIPTION:
URL:https://www.believersband.com/event/sj-rehearsal-70/
LOCATION:Gainesville First United Methodist Church
END:VEVENT
BEGIN:VEVENT
DTSTART;TZID=America/New_York:20260330T180000
DTEND;TZID=America/New_York:20260330T200000
DTSTAMP:20260423T191418
CREATED:20251211T202848Z
LAST-MODIFIED:20251211T202848Z
UID:10115-1774893600-1774900800@www.believersband.com
SUMMARY:BB Rehearsal
DESCRIPTION:
URL:https://www.believersband.com/event/bb-rehearsal-151/
LOCATION:Gainesville First United Methodist Church
END:VEVENT
BEGIN:VEVENT
DTSTART;TZID=America/New_York:20260326T183000
DTEND;TZID=America/New_York:20260326T203000
DTSTAMP:20260423T191418
CREATED:20251211T205411Z
LAST-MODIFIED:20251211T205411Z
UID:10143-1774549800-1774557000@www.believersband.com
SUMMARY:SJ Rehearsal
DESCRIPTION:
URL:https://www.believersband.com/event/sj-rehearsal-69/
LOCATION:Gainesville First United Methodist Church
END:VEVENT
BEGIN:VEVENT
DTSTART;TZID=America/New_York:20260323T180000
DTEND;TZID=America/New_York:20260323T200000
DTSTAMP:20260423T191418
CREATED:20251211T202846Z
LAST-MODIFIED:20251211T202846Z
UID:10114-1774288800-1774296000@www.believersband.com
SUMMARY:BB Rehearsal
DESCRIPTION:
URL:https://www.believersband.com/event/bb-rehearsal-150/
LOCATION:Gainesville First United Methodist Church
END:VEVENT
BEGIN:VEVENT
DTSTART;VALUE=DATE:20260321
DTEND;VALUE=DATE:20260322
DTSTAMP:20260423T191418
CREATED:20260321T080940Z
LAST-MODIFIED:20260321T080940Z
UID:10533-1774051200-1774137599@www.believersband.com
SUMMARY:SJ Concert
DESCRIPTION:
URL:https://www.believersband.com/event/sj-concert/
CATEGORIES:Southern Journey Big Band
END:VEVENT
BEGIN:VEVENT
DTSTART;TZID=America/New_York:20260319T183000
DTEND;TZID=America/New_York:20260319T203000
DTSTAMP:20260423T191418
CREATED:20251211T205409Z
LAST-MODIFIED:20251211T205409Z
UID:10142-1773945000-1773952200@www.believersband.com
SUMMARY:SJ Rehearsal
DESCRIPTION:
URL:https://www.believersband.com/event/sj-rehearsal-68/
LOCATION:Gainesville First United Methodist Church
END:VEVENT
BEGIN:VEVENT
DTSTART;TZID=America/New_York:20260316T180000
DTEND;TZID=America/New_York:20260316T200000
DTSTAMP:20260423T191418
CREATED:20251211T202843Z
LAST-MODIFIED:20251211T202843Z
UID:10113-1773684000-1773691200@www.believersband.com
SUMMARY:BB Rehearsal
DESCRIPTION:
URL:https://www.believersband.com/event/bb-rehearsal-149/
LOCATION:Gainesville First United Methodist Church
CATEGORIES:Believers Band
END:VEVENT
BEGIN:VEVENT
DTSTART;TZID=America/New_York:20260312T183000
DTEND;TZID=America/New_York:20260312T203000
DTSTAMP:20260423T191418
CREATED:20251211T205401Z
LAST-MODIFIED:20251211T205401Z
UID:10141-1773340200-1773347400@www.believersband.com
SUMMARY:SJ Rehearsal
DESCRIPTION:
URL:https://www.believersband.com/event/sj-rehearsal-67/
LOCATION:Gainesville First United Methodist Church
END:VEVENT
BEGIN:VEVENT
DTSTART;TZID=America/New_York:20260309T180000
DTEND;TZID=America/New_York:20260309T200000
DTSTAMP:20260423T191418
CREATED:20251211T202837Z
LAST-MODIFIED:20251211T202837Z
UID:10112-1773079200-1773086400@www.believersband.com
SUMMARY:BB Rehearsal
DESCRIPTION:
URL:https://www.believersband.com/event/bb-rehearsal-148/
LOCATION:Gainesville First United Methodist Church
CATEGORIES:Believers Band
END:VEVENT
BEGIN:VEVENT
DTSTART;TZID=America/New_York:20260305T183000
DTEND;TZID=America/New_York:20260305T203000
DTSTAMP:20260423T191418
CREATED:20251211T205359Z
LAST-MODIFIED:20251211T205359Z
UID:10140-1772735400-1772742600@www.believersband.com
SUMMARY:SJ Rehearsal
DESCRIPTION:
URL:https://www.believersband.com/event/sj-rehearsal-66/
LOCATION:Gainesville First United Methodist Church
END:VEVENT
BEGIN:VEVENT
DTSTART;TZID=America/New_York:20260301T160000
DTEND;TZID=America/New_York:20260301T180000
DTSTAMP:20260423T191418
CREATED:20250915T230858Z
LAST-MODIFIED:20260221T202628Z
UID:9753-1772380800-1772388000@www.believersband.com
SUMMARY:BB Somewhere in Time Concert
DESCRIPTION:
URL:https://www.believersband.com/event/winter-concert/
LOCATION:Gainesville First United Methodist Church
CATEGORIES:Believers Band,Public
END:VEVENT
BEGIN:VEVENT
DTSTART;TZID=America/New_York:20260228T150000
DTEND;TZID=America/New_York:20260228T170000
DTSTAMP:20260423T191418
CREATED:20260221T202330Z
LAST-MODIFIED:20260221T202726Z
UID:10294-1772290800-1772298000@www.believersband.com
SUMMARY:BB Somewhere in Time Dress Rehearsal
DESCRIPTION:
URL:https://www.believersband.com/event/bb-somewhere-in-time-dress-rehearsal/
LOCATION:Gainesville First United Methodist Church
CATEGORIES:Believers Band
END:VEVENT
BEGIN:VEVENT
DTSTART;TZID=America/New_York:20260226T183000
DTEND;TZID=America/New_York:20260226T203000
DTSTAMP:20260423T191418
CREATED:20251211T205357Z
LAST-MODIFIED:20251211T205357Z
UID:10139-1772130600-1772137800@www.believersband.com
SUMMARY:SJ Rehearsal
DESCRIPTION:
URL:https://www.believersband.com/event/sj-rehearsal-65/
LOCATION:Gainesville First United Methodist Church
END:VEVENT
BEGIN:VEVENT
DTSTART;TZID=America/New_York:20260223T180000
DTEND;TZID=America/New_York:20260223T200000
DTSTAMP:20260423T191418
CREATED:20251211T202833Z
LAST-MODIFIED:20251211T202833Z
UID:10110-1771869600-1771876800@www.believersband.com
SUMMARY:BB Rehearsal
DESCRIPTION:
URL:https://www.believersband.com/event/bb-rehearsal-146/
LOCATION:Gainesville First United Methodist Church
CATEGORIES:Believers Band
END:VEVENT
BEGIN:VEVENT
DTSTART;TZID=America/New_York:20260219T183000
DTEND;TZID=America/New_York:20260219T203000
DTSTAMP:20260423T191418
CREATED:20251211T205355Z
LAST-MODIFIED:20251211T205355Z
UID:10138-1771525800-1771533000@www.believersband.com
SUMMARY:SJ Rehearsal
DESCRIPTION:
URL:https://www.believersband.com/event/sj-rehearsal-64/
LOCATION:Gainesville First United Methodist Church
CATEGORIES:Southern Journey
END:VEVENT
BEGIN:VEVENT
DTSTART;TZID=America/New_York:20260216T180000
DTEND;TZID=America/New_York:20260216T200000
DTSTAMP:20260423T191418
CREATED:20251211T202831Z
LAST-MODIFIED:20251211T202831Z
UID:10109-1771264800-1771272000@www.believersband.com
SUMMARY:BB Rehearsal
DESCRIPTION:
URL:https://www.believersband.com/event/bb-rehearsal-145/
LOCATION:Gainesville First United Methodist Church
CATEGORIES:Believers Band
END:VEVENT
BEGIN:VEVENT
DTSTART;TZID=America/New_York:20260212T183000
DTEND;TZID=America/New_York:20260212T203000
DTSTAMP:20260423T191418
CREATED:20251211T205353Z
LAST-MODIFIED:20251211T205353Z
UID:10137-1770921000-1770928200@www.believersband.com
SUMMARY:SJ Rehearsal
DESCRIPTION:
URL:https://www.believersband.com/event/sj-rehearsal-63/
LOCATION:Gainesville First United Methodist Church
CATEGORIES:Southern Journey
END:VEVENT
BEGIN:VEVENT
DTSTART;TZID=America/New_York:20260209T180000
DTEND;TZID=America/New_York:20260209T200000
DTSTAMP:20260423T191418
CREATED:20251211T202828Z
LAST-MODIFIED:20251211T202828Z
UID:10108-1770660000-1770667200@www.believersband.com
SUMMARY:BB Rehearsal
DESCRIPTION:
URL:https://www.believersband.com/event/bb-rehearsal-144/
LOCATION:Gainesville First United Methodist Church
CATEGORIES:Believers Band
END:VEVENT
BEGIN:VEVENT
DTSTART;TZID=America/New_York:20260205T183000
DTEND;TZID=America/New_York:20260205T203000
DTSTAMP:20260423T191418
CREATED:20251211T205350Z
LAST-MODIFIED:20251211T205350Z
UID:10136-1770316200-1770323400@www.believersband.com
SUMMARY:SJ Rehearsal
DESCRIPTION:
URL:https://www.believersband.com/event/sj-rehearsal-62/
LOCATION:Gainesville First United Methodist Church
CATEGORIES:Southern Journey
END:VEVENT
BEGIN:VEVENT
DTSTART;TZID=America/New_York:20260202T180000
DTEND;TZID=America/New_York:20260202T200000
DTSTAMP:20260423T191418
CREATED:20251211T202823Z
LAST-MODIFIED:20251211T202823Z
UID:10107-1770055200-1770062400@www.believersband.com
SUMMARY:BB Rehearsal
DESCRIPTION:
URL:https://www.believersband.com/event/bb-rehearsal-143/
LOCATION:Gainesville First United Methodist Church
CATEGORIES:Believers Band
END:VEVENT
BEGIN:VEVENT
DTSTART;TZID=America/New_York:20260129T183000
DTEND;TZID=America/New_York:20260129T203000
DTSTAMP:20260423T191418
CREATED:20251211T205348Z
LAST-MODIFIED:20251211T205348Z
UID:10135-1769711400-1769718600@www.believersband.com
SUMMARY:SJ Rehearsal
DESCRIPTION:
URL:https://www.believersband.com/event/sj-rehearsal-61/
LOCATION:Gainesville First United Methodist Church
CATEGORIES:Southern Journey
END:VEVENT
END:VCALENDAR