BEGIN:VCALENDAR
VERSION:2.0
PRODID:-//  The Believers Concert Band - ECPv6.15.20//NONSGML v1.0//EN
CALSCALE:GREGORIAN
METHOD:PUBLISH
X-ORIGINAL-URL:https://www.believersband.com
X-WR-CALDESC:Events for   The Believers Concert Band
REFRESH-INTERVAL;VALUE=DURATION:PT1H
X-Robots-Tag:noindex
X-PUBLISHED-TTL:PT1H
BEGIN:VTIMEZONE
TZID:America/New_York
BEGIN:DAYLIGHT
TZOFFSETFROM:-0500
TZOFFSETTO:-0400
TZNAME:EDT
DTSTART:20220313T070000
END:DAYLIGHT
BEGIN:STANDARD
TZOFFSETFROM:-0400
TZOFFSETTO:-0500
TZNAME:EST
DTSTART:20221106T060000
END:STANDARD
BEGIN:DAYLIGHT
TZOFFSETFROM:-0500
TZOFFSETTO:-0400
TZNAME:EDT
DTSTART:20230312T070000
END:DAYLIGHT
BEGIN:STANDARD
TZOFFSETFROM:-0400
TZOFFSETTO:-0500
TZNAME:EST
DTSTART:20231105T060000
END:STANDARD
BEGIN:DAYLIGHT
TZOFFSETFROM:-0500
TZOFFSETTO:-0400
TZNAME:EDT
DTSTART:20240310T070000
END:DAYLIGHT
BEGIN:STANDARD
TZOFFSETFROM:-0400
TZOFFSETTO:-0500
TZNAME:EST
DTSTART:20241103T060000
END:STANDARD
BEGIN:DAYLIGHT
TZOFFSETFROM:-0500
TZOFFSETTO:-0400
TZNAME:EDT
DTSTART:20250309T070000
END:DAYLIGHT
BEGIN:STANDARD
TZOFFSETFROM:-0400
TZOFFSETTO:-0500
TZNAME:EST
DTSTART:20251102T060000
END:STANDARD
END:VTIMEZONE
BEGIN:VEVENT
DTSTART;TZID=America/New_York:20241031T183000
DTEND;TZID=America/New_York:20241031T203000
DTSTAMP:20260424T090915
CREATED:20240912T153216Z
LAST-MODIFIED:20240912T153805Z
UID:8292-1730399400-1730406600@www.believersband.com
SUMMARY:SJ Rehearsal
DESCRIPTION:
URL:https://www.believersband.com/event/sj-rehearsal-7/
LOCATION:Gainesville First United Methodist Church
CATEGORIES:Southern Journey Big Band
END:VEVENT
BEGIN:VEVENT
DTSTART;TZID=America/New_York:20241024T183000
DTEND;TZID=America/New_York:20241024T203000
DTSTAMP:20260424T090915
CREATED:20240912T153213Z
LAST-MODIFIED:20240912T153815Z
UID:8291-1729794600-1729801800@www.believersband.com
SUMMARY:SJ Rehearsal
DESCRIPTION:
URL:https://www.believersband.com/event/sj-rehearsal-6/
LOCATION:Gainesville First United Methodist Church
CATEGORIES:Southern Journey Big Band
END:VEVENT
BEGIN:VEVENT
DTSTART;TZID=America/New_York:20241017T183000
DTEND;TZID=America/New_York:20241017T203000
DTSTAMP:20260424T090915
CREATED:20240912T153211Z
LAST-MODIFIED:20240912T153825Z
UID:8290-1729189800-1729197000@www.believersband.com
SUMMARY:SJ Rehearsal
DESCRIPTION:
URL:https://www.believersband.com/event/sj-rehearsal-5/
LOCATION:Gainesville First United Methodist Church
CATEGORIES:Southern Journey Big Band
END:VEVENT
BEGIN:VEVENT
DTSTART;TZID=America/New_York:20241010T183000
DTEND;TZID=America/New_York:20241010T203000
DTSTAMP:20260424T090915
CREATED:20240912T153157Z
LAST-MODIFIED:20240912T153846Z
UID:8289-1728585000-1728592200@www.believersband.com
SUMMARY:SJ Rehearsal
DESCRIPTION:
URL:https://www.believersband.com/event/sj-rehearsal-4/
LOCATION:Gainesville First United Methodist Church
CATEGORIES:Southern Journey Big Band
END:VEVENT
BEGIN:VEVENT
DTSTART;TZID=America/New_York:20241005T180000
DTEND;TZID=America/New_York:20241005T200000
DTSTAMP:20260424T090915
CREATED:20240912T235940Z
LAST-MODIFIED:20240912T235940Z
UID:8312-1728151200-1728158400@www.believersband.com
SUMMARY:Swing Dance
DESCRIPTION:4pm       Set Up\n4:30pm  Sound Check
URL:https://www.believersband.com/event/swing-dance/
LOCATION:Reunion Country Club\, 5609 Grand Reunion Dr.\, Hoschton\, GA\, 30548\, United States
CATEGORIES:Southern Journey Big Band
END:VEVENT
BEGIN:VEVENT
DTSTART;TZID=America/New_York:20241003T183000
DTEND;TZID=America/New_York:20241003T203000
DTSTAMP:20260424T090915
CREATED:20240912T154324Z
LAST-MODIFIED:20240912T154324Z
UID:8303-1727980200-1727987400@www.believersband.com
SUMMARY:SJ Rehearsal
DESCRIPTION:
URL:https://www.believersband.com/event/sj-rehearsal-11/
LOCATION:Gainesville First United Methodist Church
CATEGORIES:Southern Journey Big Band
END:VEVENT
BEGIN:VEVENT
DTSTART;TZID=America/New_York:20240926T183000
DTEND;TZID=America/New_York:20240926T203000
DTSTAMP:20260424T090915
CREATED:20240912T141903Z
LAST-MODIFIED:20240912T153920Z
UID:8258-1727375400-1727382600@www.believersband.com
SUMMARY:SJ Rehearsal
DESCRIPTION:
URL:https://www.believersband.com/event/sj-rehearsal-3/
LOCATION:Gainesville First United Methodist Church
CATEGORIES:Southern Journey Big Band
END:VEVENT
BEGIN:VEVENT
DTSTART;TZID=America/New_York:20240919T183000
DTEND;TZID=America/New_York:20240919T203000
DTSTAMP:20260424T090915
CREATED:20240912T141800Z
LAST-MODIFIED:20240912T153933Z
UID:8256-1726770600-1726777800@www.believersband.com
SUMMARY:SJ Rehearsal
DESCRIPTION:
URL:https://www.believersband.com/event/sj-rehearsal-2/
LOCATION:Gainesville First United Methodist Church
CATEGORIES:Southern Journey Big Band
END:VEVENT
BEGIN:VEVENT
DTSTART;TZID=America/New_York:20240912T183000
DTEND;TZID=America/New_York:20240912T203000
DTSTAMP:20260424T090915
CREATED:20240912T141635Z
LAST-MODIFIED:20240912T153644Z
UID:8254-1726165800-1726173000@www.believersband.com
SUMMARY:SJ Rehearsal
DESCRIPTION:
URL:https://www.believersband.com/event/sj-rehearsal/
LOCATION:Gainesville First United Methodist Church
CATEGORIES:Southern Journey Big Band
END:VEVENT
BEGIN:VEVENT
DTSTART;TZID=America/New_York:20230714T180000
DTEND;TZID=America/New_York:20230714T210000
DTSTAMP:20260424T090915
CREATED:20230424T195132Z
LAST-MODIFIED:20230424T195132Z
UID:6831-1689357600-1689368400@www.believersband.com
SUMMARY:Southern Journey-Helen Rotary Club
DESCRIPTION:
URL:https://www.believersband.com/event/southern-journey-helen-rotary-club/
LOCATION:Valhalla Resort\, 688 Bahn Innsbruck\, Helen\, GA\, United States
CATEGORIES:Southern Journey Big Band
END:VEVENT
BEGIN:VEVENT
DTSTART;TZID=America/New_York:20230621T110000
DTEND;TZID=America/New_York:20230621T120000
DTSTAMP:20260424T090915
CREATED:20230424T194912Z
LAST-MODIFIED:20230424T195345Z
UID:6829-1687345200-1687348800@www.believersband.com
SUMMARY:Southern Journey-GFUMC Gadabouts Lunch
DESCRIPTION:
URL:https://www.believersband.com/event/southern-journey-gfumc-gadabouts-lunch/
LOCATION:Gainesville First United Methodist Church
CATEGORIES:Southern Journey Big Band
END:VEVENT
BEGIN:VEVENT
DTSTART;TZID=America/New_York:20230601T183000
DTEND;TZID=America/New_York:20230601T203000
DTSTAMP:20260424T090915
CREATED:20230424T203316Z
LAST-MODIFIED:20230424T203316Z
UID:6839-1685644200-1685651400@www.believersband.com
SUMMARY:Southern Journey-Rehearsal
DESCRIPTION:
URL:https://www.believersband.com/event/southern-journey-rehearsal-4/
LOCATION:Gainesville First United Methodist Church
CATEGORIES:Southern Journey Big Band
END:VEVENT
BEGIN:VEVENT
DTSTART;TZID=America/New_York:20230526T190000
DTEND;TZID=America/New_York:20230526T213000
DTSTAMP:20260424T090915
CREATED:20230424T194433Z
LAST-MODIFIED:20230424T195538Z
UID:6824-1685127600-1685136600@www.believersband.com
SUMMARY:Southern Journey-Cresswind at Lanier
DESCRIPTION:
URL:https://www.believersband.com/event/southern-journey-cresswind-at-lanier/
CATEGORIES:Southern Journey Big Band
END:VEVENT
BEGIN:VEVENT
DTSTART;TZID=America/New_York:20230525T190000
DTEND;TZID=America/New_York:20230525T213000
DTSTAMP:20260424T090915
CREATED:20230424T194702Z
LAST-MODIFIED:20230424T194702Z
UID:6827-1685041200-1685050200@www.believersband.com
SUMMARY:Southern Journey-Cresswind at Lanier (TBD)
DESCRIPTION:
URL:https://www.believersband.com/event/southern-journey-cresswind-at-lanier-tbd/
CATEGORIES:Southern Journey Big Band
END:VEVENT
BEGIN:VEVENT
DTSTART;TZID=America/New_York:20230518T183000
DTEND;TZID=America/New_York:20230518T203000
DTSTAMP:20260424T090915
CREATED:20230424T203115Z
LAST-MODIFIED:20230424T203115Z
UID:6837-1684434600-1684441800@www.believersband.com
SUMMARY:Southern Journey-Rehearsal
DESCRIPTION:
URL:https://www.believersband.com/event/southern-journey-rehearsal-3/
LOCATION:Gainesville First United Methodist Church
CATEGORIES:Southern Journey Big Band
END:VEVENT
BEGIN:VEVENT
DTSTART;TZID=America/New_York:20230512T190000
DTEND;TZID=America/New_York:20230512T203000
DTSTAMP:20260424T090915
CREATED:20230424T194206Z
LAST-MODIFIED:20230424T194206Z
UID:6821-1683918000-1683923400@www.believersband.com
SUMMARY:Southern Journey - Lanier Village
DESCRIPTION:
URL:https://www.believersband.com/event/southern-journey-lanier-village/
CATEGORIES:Southern Journey Big Band
END:VEVENT
BEGIN:VEVENT
DTSTART;TZID=America/New_York:20230511T183000
DTEND;TZID=America/New_York:20230511T203000
DTSTAMP:20260424T090915
CREATED:20230424T202849Z
LAST-MODIFIED:20230424T202849Z
UID:6835-1683829800-1683837000@www.believersband.com
SUMMARY:Southern Journey-Rehearsal
DESCRIPTION:
URL:https://www.believersband.com/event/southern-journey-rehearsal-2/
CATEGORIES:Southern Journey Big Band
END:VEVENT
BEGIN:VEVENT
DTSTART;TZID=America/New_York:20230504T183000
DTEND;TZID=America/New_York:20230504T203000
DTSTAMP:20260424T090915
CREATED:20230424T202611Z
LAST-MODIFIED:20230424T202611Z
UID:6833-1683225000-1683232200@www.believersband.com
SUMMARY:Southern Journey-Rehearsal
DESCRIPTION:
URL:https://www.believersband.com/event/southern-journey-rehearsal/
LOCATION:Gainesville First United Methodist Church
CATEGORIES:Southern Journey Big Band
END:VEVENT
BEGIN:VEVENT
DTSTART;TZID=America/New_York:20230330T183000
DTEND;TZID=America/New_York:20230330T203000
DTSTAMP:20260424T090915
CREATED:20221223T134624Z
LAST-MODIFIED:20221223T134624Z
UID:6483-1680201000-1680208200@www.believersband.com
SUMMARY:Big Band Rehearsal
DESCRIPTION:
URL:https://www.believersband.com/event/big-band-rehearsal-12/
LOCATION:Gainesville First United Methodist Church
CATEGORIES:Southern Journey Big Band
END:VEVENT
BEGIN:VEVENT
DTSTART;TZID=America/New_York:20230323T183000
DTEND;TZID=America/New_York:20230323T203000
DTSTAMP:20260424T090915
CREATED:20221223T134524Z
LAST-MODIFIED:20221223T134524Z
UID:6481-1679596200-1679603400@www.believersband.com
SUMMARY:Big Band Rehearsal
DESCRIPTION:
URL:https://www.believersband.com/event/big-band-rehearsal-11/
LOCATION:Gainesville First United Methodist Church
CATEGORIES:Southern Journey Big Band
END:VEVENT
BEGIN:VEVENT
DTSTART;TZID=America/New_York:20230318T183000
DTEND;TZID=America/New_York:20230318T203000
DTSTAMP:20260424T090915
CREATED:20230123T194923Z
LAST-MODIFIED:20230123T200437Z
UID:6585-1679164200-1679171400@www.believersband.com
SUMMARY:Big Band-St. Patrick's Day Dance
DESCRIPTION:
URL:https://www.believersband.com/event/st-patricks-day-dance/
LOCATION:Valhalla Resort\, 688 Bahn Innsbruck\, Helen\, GA\, United States
CATEGORIES:Southern Journey Big Band
END:VEVENT
BEGIN:VEVENT
DTSTART;TZID=America/New_York:20230316T183000
DTEND;TZID=America/New_York:20230316T203000
DTSTAMP:20260424T090915
CREATED:20221223T134435Z
LAST-MODIFIED:20221223T134435Z
UID:6479-1678991400-1678998600@www.believersband.com
SUMMARY:Big Band Rehearsal
DESCRIPTION:
URL:https://www.believersband.com/event/big-band-rehearsal-10/
LOCATION:Gainesville First United Methodist Church
CATEGORIES:Southern Journey Big Band
END:VEVENT
BEGIN:VEVENT
DTSTART;TZID=America/New_York:20230309T183000
DTEND;TZID=America/New_York:20230309T203000
DTSTAMP:20260424T090915
CREATED:20221223T134340Z
LAST-MODIFIED:20221223T134340Z
UID:6477-1678386600-1678393800@www.believersband.com
SUMMARY:Big Band Rehearsal
DESCRIPTION:
URL:https://www.believersband.com/event/big-band-rehearsal-9/
LOCATION:Gainesville First United Methodist Church
CATEGORIES:Southern Journey Big Band
END:VEVENT
BEGIN:VEVENT
DTSTART;TZID=America/New_York:20230302T183000
DTEND;TZID=America/New_York:20230302T203000
DTSTAMP:20260424T090915
CREATED:20221223T134240Z
LAST-MODIFIED:20221223T134240Z
UID:6475-1677781800-1677789000@www.believersband.com
SUMMARY:Big Band Rehearsal
DESCRIPTION:
URL:https://www.believersband.com/event/big-band-rehearsal-8/
LOCATION:Gainesville First United Methodist Church
CATEGORIES:Southern Journey Big Band
END:VEVENT
BEGIN:VEVENT
DTSTART;TZID=America/New_York:20230223T183000
DTEND;TZID=America/New_York:20230223T203000
DTSTAMP:20260424T090915
CREATED:20221222T203356Z
LAST-MODIFIED:20221222T203356Z
UID:6466-1677177000-1677184200@www.believersband.com
SUMMARY:Big Band Rehearsal
DESCRIPTION:
URL:https://www.believersband.com/event/big-band-rehearsal-7/
LOCATION:Gainesville First United Methodist Church
CATEGORIES:Southern Journey Big Band
END:VEVENT
BEGIN:VEVENT
DTSTART;TZID=America/New_York:20230216T183000
DTEND;TZID=America/New_York:20230216T203000
DTSTAMP:20260424T090915
CREATED:20221222T203304Z
LAST-MODIFIED:20221222T203304Z
UID:6464-1676572200-1676579400@www.believersband.com
SUMMARY:Big Band Rehearsal
DESCRIPTION:
URL:https://www.believersband.com/event/big-band-rehearsal-6/
LOCATION:Gainesville First United Methodist Church
CATEGORIES:Southern Journey Big Band
END:VEVENT
BEGIN:VEVENT
DTSTART;TZID=America/New_York:20230209T183000
DTEND;TZID=America/New_York:20230209T203000
DTSTAMP:20260424T090915
CREATED:20221222T203158Z
LAST-MODIFIED:20221222T203158Z
UID:6462-1675967400-1675974600@www.believersband.com
SUMMARY:Big Band Rehearsal
DESCRIPTION:
URL:https://www.believersband.com/event/big-band-rehearsal-5/
LOCATION:Gainesville First United Methodist Church
CATEGORIES:Southern Journey Big Band
END:VEVENT
BEGIN:VEVENT
DTSTART;TZID=America/New_York:20230202T183000
DTEND;TZID=America/New_York:20230202T203000
DTSTAMP:20260424T090915
CREATED:20221222T163815Z
LAST-MODIFIED:20221222T163815Z
UID:6460-1675362600-1675369800@www.believersband.com
SUMMARY:Big Band Rehearsal
DESCRIPTION:
URL:https://www.believersband.com/event/big-band-rehearsal-4/
LOCATION:Gainesville First United Methodist Church
CATEGORIES:Southern Journey Big Band
END:VEVENT
BEGIN:VEVENT
DTSTART;TZID=America/New_York:20230126T183000
DTEND;TZID=America/New_York:20230126T203000
DTSTAMP:20260424T090915
CREATED:20221220T163717Z
LAST-MODIFIED:20221220T163717Z
UID:6430-1674757800-1674765000@www.believersband.com
SUMMARY:Big Band Rehearsal
DESCRIPTION:
URL:https://www.believersband.com/event/big-band-rehearsal-2/
LOCATION:Gainesville First United Methodist Church
CATEGORIES:Southern Journey Big Band
END:VEVENT
BEGIN:VEVENT
DTSTART;TZID=America/New_York:20230119T183000
DTEND;TZID=America/New_York:20230119T203000
DTSTAMP:20260424T090915
CREATED:20221220T163515Z
LAST-MODIFIED:20221220T163515Z
UID:6428-1674153000-1674160200@www.believersband.com
SUMMARY:Big Band Rehearsal
DESCRIPTION:
URL:https://www.believersband.com/event/big-band-rehearsal/
LOCATION:Gainesville First United Methodist Church
CATEGORIES:Southern Journey Big Band
END:VEVENT
END:VCALENDAR