BEGIN:VCALENDAR
VERSION:2.0
PRODID:-//  The Believers Concert Band - ECPv6.15.20//NONSGML v1.0//EN
CALSCALE:GREGORIAN
METHOD:PUBLISH
X-WR-CALNAME:  The Believers Concert Band
X-ORIGINAL-URL:https://www.believersband.com
X-WR-CALDESC:Events for   The Believers Concert Band
REFRESH-INTERVAL;VALUE=DURATION:PT1H
X-Robots-Tag:noindex
X-PUBLISHED-TTL:PT1H
BEGIN:VTIMEZONE
TZID:America/New_York
BEGIN:DAYLIGHT
TZOFFSETFROM:-0500
TZOFFSETTO:-0400
TZNAME:EDT
DTSTART:20230312T070000
END:DAYLIGHT
BEGIN:STANDARD
TZOFFSETFROM:-0400
TZOFFSETTO:-0500
TZNAME:EST
DTSTART:20231105T060000
END:STANDARD
BEGIN:DAYLIGHT
TZOFFSETFROM:-0500
TZOFFSETTO:-0400
TZNAME:EDT
DTSTART:20240310T070000
END:DAYLIGHT
BEGIN:STANDARD
TZOFFSETFROM:-0400
TZOFFSETTO:-0500
TZNAME:EST
DTSTART:20241103T060000
END:STANDARD
BEGIN:DAYLIGHT
TZOFFSETFROM:-0500
TZOFFSETTO:-0400
TZNAME:EDT
DTSTART:20250309T070000
END:DAYLIGHT
BEGIN:STANDARD
TZOFFSETFROM:-0400
TZOFFSETTO:-0500
TZNAME:EST
DTSTART:20251102T060000
END:STANDARD
BEGIN:DAYLIGHT
TZOFFSETFROM:-0500
TZOFFSETTO:-0400
TZNAME:EDT
DTSTART:20260308T070000
END:DAYLIGHT
BEGIN:STANDARD
TZOFFSETFROM:-0400
TZOFFSETTO:-0500
TZNAME:EST
DTSTART:20261101T060000
END:STANDARD
END:VTIMEZONE
BEGIN:VEVENT
DTSTART;TZID=America/New_York:20250331T180000
DTEND;TZID=America/New_York:20250331T200000
DTSTAMP:20260424T172711
CREATED:20241002T164902Z
LAST-MODIFIED:20241002T164902Z
UID:8504-1743444000-1743451200@www.believersband.com
SUMMARY:BB Rehearsal
DESCRIPTION:
URL:https://www.believersband.com/event/bb-rehearsal-111/
LOCATION:Gainesville First United Methodist Church
CATEGORIES:Believers Band
END:VEVENT
BEGIN:VEVENT
DTSTART;TZID=America/New_York:20250324T180000
DTEND;TZID=America/New_York:20250324T200000
DTSTAMP:20260424T172711
CREATED:20241002T164900Z
LAST-MODIFIED:20241002T164900Z
UID:8503-1742839200-1742846400@www.believersband.com
SUMMARY:BB Rehearsal
DESCRIPTION:
URL:https://www.believersband.com/event/bb-rehearsal-110/
LOCATION:Gainesville First United Methodist Church
CATEGORIES:Believers Band
END:VEVENT
BEGIN:VEVENT
DTSTART;TZID=America/New_York:20250317T180000
DTEND;TZID=America/New_York:20250317T200000
DTSTAMP:20260424T172711
CREATED:20241002T164858Z
LAST-MODIFIED:20241002T164858Z
UID:8502-1742234400-1742241600@www.believersband.com
SUMMARY:BB Rehearsal
DESCRIPTION:
URL:https://www.believersband.com/event/bb-rehearsal-109/
LOCATION:Gainesville First United Methodist Church
CATEGORIES:Believers Band
END:VEVENT
BEGIN:VEVENT
DTSTART;TZID=America/New_York:20250310T180000
DTEND;TZID=America/New_York:20250310T200000
DTSTAMP:20260424T172711
CREATED:20241002T164849Z
LAST-MODIFIED:20241002T164849Z
UID:8501-1741629600-1741636800@www.believersband.com
SUMMARY:BB Rehearsal
DESCRIPTION:
URL:https://www.believersband.com/event/bb-rehearsal-108/
LOCATION:Gainesville First United Methodist Church
CATEGORIES:Believers Band
END:VEVENT
BEGIN:VEVENT
DTSTART;TZID=America/New_York:20250303T180000
DTEND;TZID=America/New_York:20250303T200000
DTSTAMP:20260424T172711
CREATED:20241002T164847Z
LAST-MODIFIED:20241002T164847Z
UID:8500-1741024800-1741032000@www.believersband.com
SUMMARY:BB Rehearsal
DESCRIPTION:
URL:https://www.believersband.com/event/bb-rehearsal-107/
LOCATION:Gainesville First United Methodist Church
CATEGORIES:Believers Band
END:VEVENT
BEGIN:VEVENT
DTSTART;TZID=America/New_York:20250223T160000
DTEND;TZID=America/New_York:20250223T180000
DTSTAMP:20260424T172711
CREATED:20240916T212808Z
LAST-MODIFIED:20250220T163450Z
UID:8387-1740326400-1740333600@www.believersband.com
SUMMARY:BB Best Of The Wild West! Concert
DESCRIPTION:
URL:https://www.believersband.com/event/gainesville-ballet/
LOCATION:Gainesville First United Methodist Church
CATEGORIES:Believers Band,Public
END:VEVENT
BEGIN:VEVENT
DTSTART;TZID=America/New_York:20250222T150000
DTEND;TZID=America/New_York:20250222T173000
DTSTAMP:20260424T172711
CREATED:20240917T151653Z
LAST-MODIFIED:20250220T163751Z
UID:8389-1740236400-1740245400@www.believersband.com
SUMMARY:BB Dress Rehearsal
DESCRIPTION:
URL:https://www.believersband.com/event/dress-rehearsal-2/
LOCATION:Gainesville First United Methodist Church
CATEGORIES:Believers Band
END:VEVENT
BEGIN:VEVENT
DTSTART;TZID=America/New_York:20250217T180000
DTEND;TZID=America/New_York:20250217T200000
DTSTAMP:20260424T172711
CREATED:20241002T164843Z
LAST-MODIFIED:20241002T164843Z
UID:8498-1739815200-1739822400@www.believersband.com
SUMMARY:BB Rehearsal
DESCRIPTION:
URL:https://www.believersband.com/event/bb-rehearsal-105/
LOCATION:Gainesville First United Methodist Church
CATEGORIES:Believers Band
END:VEVENT
BEGIN:VEVENT
DTSTART;TZID=America/New_York:20250210T180000
DTEND;TZID=America/New_York:20250210T200000
DTSTAMP:20260424T172712
CREATED:20241002T164842Z
LAST-MODIFIED:20241002T164842Z
UID:8497-1739210400-1739217600@www.believersband.com
SUMMARY:BB Rehearsal
DESCRIPTION:
URL:https://www.believersband.com/event/bb-rehearsal-104/
LOCATION:Gainesville First United Methodist Church
CATEGORIES:Believers Band
END:VEVENT
BEGIN:VEVENT
DTSTART;TZID=America/New_York:20250203T180000
DTEND;TZID=America/New_York:20250203T200000
DTSTAMP:20260424T172712
CREATED:20241002T164838Z
LAST-MODIFIED:20241002T164838Z
UID:8496-1738605600-1738612800@www.believersband.com
SUMMARY:BB Rehearsal
DESCRIPTION:
URL:https://www.believersband.com/event/bb-rehearsal-103/
LOCATION:Gainesville First United Methodist Church
CATEGORIES:Believers Band
END:VEVENT
BEGIN:VEVENT
DTSTART;TZID=America/New_York:20250127T180000
DTEND;TZID=America/New_York:20250127T200000
DTSTAMP:20260424T172712
CREATED:20241002T164836Z
LAST-MODIFIED:20241002T164836Z
UID:8495-1738000800-1738008000@www.believersband.com
SUMMARY:BB Rehearsal
DESCRIPTION:
URL:https://www.believersband.com/event/bb-rehearsal-102/
LOCATION:Gainesville First United Methodist Church
CATEGORIES:Believers Band
END:VEVENT
BEGIN:VEVENT
DTSTART;TZID=America/New_York:20250120T180000
DTEND;TZID=America/New_York:20250120T200000
DTSTAMP:20260424T172712
CREATED:20241002T164834Z
LAST-MODIFIED:20241002T164834Z
UID:8494-1737396000-1737403200@www.believersband.com
SUMMARY:BB Rehearsal
DESCRIPTION:
URL:https://www.believersband.com/event/bb-rehearsal-101/
LOCATION:Gainesville First United Methodist Church
CATEGORIES:Believers Band
END:VEVENT
BEGIN:VEVENT
DTSTART;TZID=America/New_York:20250113T180000
DTEND;TZID=America/New_York:20250113T200000
DTSTAMP:20260424T172712
CREATED:20241002T164832Z
LAST-MODIFIED:20241002T164832Z
UID:8493-1736791200-1736798400@www.believersband.com
SUMMARY:BB Rehearsal
DESCRIPTION:
URL:https://www.believersband.com/event/bb-rehearsal-100/
LOCATION:Gainesville First United Methodist Church
CATEGORIES:Believers Band
END:VEVENT
BEGIN:VEVENT
DTSTART;TZID=America/New_York:20250106T180000
DTEND;TZID=America/New_York:20250106T200000
DTSTAMP:20260424T172712
CREATED:20241002T164821Z
LAST-MODIFIED:20241002T164821Z
UID:8492-1736186400-1736193600@www.believersband.com
SUMMARY:BB Rehearsal
DESCRIPTION:
URL:https://www.believersband.com/event/bb-rehearsal-99/
LOCATION:Gainesville First United Methodist Church
CATEGORIES:Believers Band
END:VEVENT
BEGIN:VEVENT
DTSTART;TZID=America/New_York:20241216T180000
DTEND;TZID=America/New_York:20241216T200000
DTSTAMP:20260424T172712
CREATED:20241122T172357Z
LAST-MODIFIED:20241122T172357Z
UID:8729-1734372000-1734379200@www.believersband.com
SUMMARY:BB Rehearsal
DESCRIPTION:
URL:https://www.believersband.com/event/bb-rehearsal-139/
CATEGORIES:Believers Band
END:VEVENT
BEGIN:VEVENT
DTSTART;TZID=America/New_York:20241209T180000
DTEND;TZID=America/New_York:20241209T200000
DTSTAMP:20260424T172712
CREATED:20241122T172228Z
LAST-MODIFIED:20241122T172228Z
UID:8727-1733767200-1733774400@www.believersband.com
SUMMARY:BB Rehearsal
DESCRIPTION:
URL:https://www.believersband.com/event/bb-rehearsal-138/
LOCATION:Gainesville First United Methodist Church
CATEGORIES:Believers Band
END:VEVENT
BEGIN:VEVENT
DTSTART;TZID=America/New_York:20241123T170000
DTEND;TZID=America/New_York:20241123T200000
DTSTAMP:20260424T172712
CREATED:20240803T191400Z
LAST-MODIFIED:20241122T172731Z
UID:8178-1732381200-1732392000@www.believersband.com
SUMMARY:Jingle Mingle
DESCRIPTION:
URL:https://www.believersband.com/event/jingle-mingle-2/
LOCATION:Sweet Magnolias Resturant
CATEGORIES:Believers Band,Public
END:VEVENT
BEGIN:VEVENT
DTSTART;TZID=America/New_York:20241118T180000
DTEND;TZID=America/New_York:20241118T200000
DTSTAMP:20260424T172712
CREATED:20240912T143641Z
LAST-MODIFIED:20240912T144543Z
UID:8268-1731952800-1731960000@www.believersband.com
SUMMARY:BB Rehearsal
DESCRIPTION:Choir Room in Music Wing at GFUMC.
URL:https://www.believersband.com/event/bb-rehearsal-61/
LOCATION:Gainesville First United Methodist Church
CATEGORIES:Believers Band
END:VEVENT
BEGIN:VEVENT
DTSTART;TZID=America/New_York:20241111T190000
DTEND;TZID=America/New_York:20241111T200000
DTSTAMP:20260424T172712
CREATED:20240803T191305Z
LAST-MODIFIED:20240912T135143Z
UID:8176-1731351600-1731355200@www.believersband.com
SUMMARY:Veterans Day Concert
DESCRIPTION:
URL:https://www.believersband.com/event/veterans-day-concert-2/
LOCATION:Gainesville First United Methodist Church
CATEGORIES:Believers Band,Public
END:VEVENT
BEGIN:VEVENT
DTSTART;TZID=America/New_York:20241110T190000
DTEND;TZID=America/New_York:20241110T210000
DTSTAMP:20260424T172712
CREATED:20240912T152145Z
LAST-MODIFIED:20240912T152145Z
UID:8284-1731265200-1731272400@www.believersband.com
SUMMARY:Dress Rehearsal
DESCRIPTION:Sanctuary GFUMC.
URL:https://www.believersband.com/event/dress-rehearsal/
LOCATION:Gainesville First United Methodist Church
CATEGORIES:Believers Band
END:VEVENT
BEGIN:VEVENT
DTSTART;TZID=America/New_York:20241104T180000
DTEND;TZID=America/New_York:20241104T200000
DTSTAMP:20260424T172712
CREATED:20240912T143632Z
LAST-MODIFIED:20240912T144842Z
UID:8266-1730743200-1730750400@www.believersband.com
SUMMARY:BB Rehearsal
DESCRIPTION:Choir Room in Music Wing at GFUMC.
URL:https://www.believersband.com/event/bb-rehearsal-59/
LOCATION:Gainesville First United Methodist Church
CATEGORIES:Believers Band
END:VEVENT
BEGIN:VEVENT
DTSTART;TZID=America/New_York:20241028T180000
DTEND;TZID=America/New_York:20241028T200000
DTSTAMP:20260424T172712
CREATED:20240912T143630Z
LAST-MODIFIED:20240912T145127Z
UID:8265-1730138400-1730145600@www.believersband.com
SUMMARY:BB Rehearsal
DESCRIPTION:Choir Room in Music Wing at GFUMC.
URL:https://www.believersband.com/event/bb-rehearsal-58/
LOCATION:Gainesville First United Methodist Church
CATEGORIES:Believers Band
END:VEVENT
BEGIN:VEVENT
DTSTART;TZID=America/New_York:20241021T180000
DTEND;TZID=America/New_York:20241021T200000
DTSTAMP:20260424T172712
CREATED:20240912T143628Z
LAST-MODIFIED:20240912T145052Z
UID:8264-1729533600-1729540800@www.believersband.com
SUMMARY:BB Rehearsal
DESCRIPTION:Choir Room in Music Wing at GFUMC.
URL:https://www.believersband.com/event/bb-rehearsal-57/
LOCATION:Gainesville First United Methodist Church
CATEGORIES:Believers Band
END:VEVENT
BEGIN:VEVENT
DTSTART;TZID=America/New_York:20241014T180000
DTEND;TZID=America/New_York:20241014T200000
DTSTAMP:20260424T172712
CREATED:20240912T143625Z
LAST-MODIFIED:20240912T145009Z
UID:8263-1728928800-1728936000@www.believersband.com
SUMMARY:BB Rehearsal
DESCRIPTION:Choir Room in Music Wing at GFUMC.
URL:https://www.believersband.com/event/bb-rehearsal-56/
LOCATION:Gainesville First United Methodist Church
CATEGORIES:Believers Band
END:VEVENT
BEGIN:VEVENT
DTSTART;TZID=America/New_York:20241007T180000
DTEND;TZID=America/New_York:20241007T200000
DTSTAMP:20260424T172712
CREATED:20240912T143608Z
LAST-MODIFIED:20240912T144929Z
UID:8262-1728324000-1728331200@www.believersband.com
SUMMARY:BB Rehearsal
DESCRIPTION:Choir Room in Music Wing at GFUMC.
URL:https://www.believersband.com/event/bb-rehearsal-55/
LOCATION:Gainesville First United Methodist Church
CATEGORIES:Believers Band
END:VEVENT
BEGIN:VEVENT
DTSTART;TZID=America/New_York:20240930T180000
DTEND;TZID=America/New_York:20240930T200000
DTSTAMP:20260424T172712
CREATED:20240912T140650Z
LAST-MODIFIED:20240912T140650Z
UID:8246-1727719200-1727726400@www.believersband.com
SUMMARY:BB Rehearsal
DESCRIPTION:Choir Room in Music Wing at GFUMC.
URL:https://www.believersband.com/event/bb-rehearsal-54/
LOCATION:Gainesville First United Methodist Church
CATEGORIES:Believers Band
END:VEVENT
BEGIN:VEVENT
DTSTART;TZID=America/New_York:20240923T180000
DTEND;TZID=America/New_York:20240923T200000
DTSTAMP:20260424T172712
CREATED:20240912T140507Z
LAST-MODIFIED:20240912T140832Z
UID:8244-1727114400-1727121600@www.believersband.com
SUMMARY:BB Rehearsal
DESCRIPTION:Choir Room in Music Wing at GFUMC.
URL:https://www.believersband.com/event/bb-rehearsal-53/
LOCATION:Gainesville First United Methodist Church
CATEGORIES:Believers Band
END:VEVENT
BEGIN:VEVENT
DTSTART;TZID=America/New_York:20240916T180000
DTEND;TZID=America/New_York:20240916T200000
DTSTAMP:20260424T172712
CREATED:20240912T140352Z
LAST-MODIFIED:20240912T140913Z
UID:8242-1726509600-1726516800@www.believersband.com
SUMMARY:BB Rehearsal
DESCRIPTION:Choir Room in Music Wing at GFUMC.
URL:https://www.believersband.com/event/bb-rehearsal-52/
LOCATION:Gainesville First United Methodist Church
CATEGORIES:Believers Band
END:VEVENT
BEGIN:VEVENT
DTSTART;TZID=America/New_York:20240915T083000
DTEND;TZID=America/New_York:20240915T093000
DTSTAMP:20260424T172712
CREATED:20240803T191107Z
LAST-MODIFIED:20240912T160708Z
UID:8174-1726389000-1726392600@www.believersband.com
SUMMARY:Lakeside Service
DESCRIPTION:7:30 am – Percussion and anyone that can help move equipment \n7:45 am – Arrive at GFUMC – Set-up \n7:55 am – Be in your seats \n8:00 – 8:20 am –  Warm-up and tune \n8:20 am – Break (hopefully) \n8:25 am – Be in your seats \n8:27 – 9:30 am Service
URL:https://www.believersband.com/event/lakeside-service/
LOCATION:Gainesville First United Methodist Church
CATEGORIES:Believers Band,Public
END:VEVENT
BEGIN:VEVENT
DTSTART;TZID=America/New_York:20240909T180000
DTEND;TZID=America/New_York:20240909T200000
DTSTAMP:20260424T172712
CREATED:20240912T140130Z
LAST-MODIFIED:20240912T140950Z
UID:8239-1725904800-1725912000@www.believersband.com
SUMMARY:BB Rehearsal
DESCRIPTION:Choir Room in Music Wing at GFUMC.
URL:https://www.believersband.com/event/believers-band-rehearsal/
LOCATION:Gainesville First United Methodist Church
CATEGORIES:Believers Band
END:VEVENT
END:VCALENDAR