BEGIN:VCALENDAR
VERSION:2.0
PRODID:-//  The Believers Concert Band - ECPv6.15.20//NONSGML v1.0//EN
CALSCALE:GREGORIAN
METHOD:PUBLISH
X-WR-CALNAME:  The Believers Concert Band
X-ORIGINAL-URL:https://www.believersband.com
X-WR-CALDESC:Events for   The Believers Concert Band
REFRESH-INTERVAL;VALUE=DURATION:PT1H
X-Robots-Tag:noindex
X-PUBLISHED-TTL:PT1H
BEGIN:VTIMEZONE
TZID:America/New_York
BEGIN:DAYLIGHT
TZOFFSETFROM:-0500
TZOFFSETTO:-0400
TZNAME:EDT
DTSTART:20240310T070000
END:DAYLIGHT
BEGIN:STANDARD
TZOFFSETFROM:-0400
TZOFFSETTO:-0500
TZNAME:EST
DTSTART:20241103T060000
END:STANDARD
BEGIN:DAYLIGHT
TZOFFSETFROM:-0500
TZOFFSETTO:-0400
TZNAME:EDT
DTSTART:20250309T070000
END:DAYLIGHT
BEGIN:STANDARD
TZOFFSETFROM:-0400
TZOFFSETTO:-0500
TZNAME:EST
DTSTART:20251102T060000
END:STANDARD
BEGIN:DAYLIGHT
TZOFFSETFROM:-0500
TZOFFSETTO:-0400
TZNAME:EDT
DTSTART:20260308T070000
END:DAYLIGHT
BEGIN:STANDARD
TZOFFSETFROM:-0400
TZOFFSETTO:-0500
TZNAME:EST
DTSTART:20261101T060000
END:STANDARD
END:VTIMEZONE
BEGIN:VEVENT
DTSTART;TZID=America/New_York:20251215T180000
DTEND;TZID=America/New_York:20251215T200000
DTSTAMP:20260424T090916
CREATED:20251211T203317Z
LAST-MODIFIED:20251211T203317Z
UID:10128-1765821600-1765828800@www.believersband.com
SUMMARY:BB Rehearsal
DESCRIPTION:
URL:https://www.believersband.com/event/bb-rehearsal-164/
LOCATION:Gainesville First United Methodist Church
CATEGORIES:Believers Band
END:VEVENT
BEGIN:VEVENT
DTSTART;TZID=America/New_York:20251122T170000
DTEND;TZID=America/New_York:20251122T200000
DTSTAMP:20260424T090916
CREATED:20250816T013549Z
LAST-MODIFIED:20250816T013549Z
UID:9712-1763830800-1763841600@www.believersband.com
SUMMARY:BB Jingle Mingle
DESCRIPTION:
URL:https://www.believersband.com/event/bb-jingle-mingle/
LOCATION:Sweet Magnolias Resturant
CATEGORIES:Believers Band,Public
END:VEVENT
BEGIN:VEVENT
DTSTART;TZID=America/New_York:20251117T180000
DTEND;TZID=America/New_York:20251117T200000
DTSTAMP:20260424T090916
CREATED:20241002T165019Z
LAST-MODIFIED:20241105T220131Z
UID:8530-1763402400-1763409600@www.believersband.com
SUMMARY:BB Rehearsal
DESCRIPTION:
URL:https://www.believersband.com/event/bb-rehearsal-137/
LOCATION:Gainesville First United Methodist Church
CATEGORIES:Believers Band
END:VEVENT
BEGIN:VEVENT
DTSTART;TZID=America/New_York:20251111T190000
DTEND;TZID=America/New_York:20251111T200000
DTSTAMP:20260424T090916
CREATED:20250816T013321Z
LAST-MODIFIED:20250816T013321Z
UID:9710-1762887600-1762891200@www.believersband.com
SUMMARY:BB Veterans Day Concert
DESCRIPTION:
URL:https://www.believersband.com/event/bb-veterans-day-concert/
LOCATION:Gainesville First United Methodist Church
CATEGORIES:Believers Band,Public
END:VEVENT
BEGIN:VEVENT
DTSTART;TZID=America/New_York:20251110T180000
DTEND;TZID=America/New_York:20251110T200000
DTSTAMP:20260424T090916
CREATED:20241002T165017Z
LAST-MODIFIED:20241002T165017Z
UID:8529-1762797600-1762804800@www.believersband.com
SUMMARY:BB Rehearsal
DESCRIPTION:
URL:https://www.believersband.com/event/bb-rehearsal-136/
LOCATION:Gainesville First United Methodist Church
CATEGORIES:Believers Band
END:VEVENT
BEGIN:VEVENT
DTSTART;TZID=America/New_York:20251103T180000
DTEND;TZID=America/New_York:20251103T200000
DTSTAMP:20260424T090916
CREATED:20241002T165015Z
LAST-MODIFIED:20241002T165015Z
UID:8528-1762192800-1762200000@www.believersband.com
SUMMARY:BB Rehearsal
DESCRIPTION:
URL:https://www.believersband.com/event/bb-rehearsal-135/
LOCATION:Gainesville First United Methodist Church
CATEGORIES:Believers Band
END:VEVENT
BEGIN:VEVENT
DTSTART;TZID=America/New_York:20251027T180000
DTEND;TZID=America/New_York:20251027T200000
DTSTAMP:20260424T090916
CREATED:20241002T165014Z
LAST-MODIFIED:20241002T165014Z
UID:8527-1761588000-1761595200@www.believersband.com
SUMMARY:BB Rehearsal
DESCRIPTION:
URL:https://www.believersband.com/event/bb-rehearsal-134/
LOCATION:Gainesville First United Methodist Church
CATEGORIES:Believers Band
END:VEVENT
BEGIN:VEVENT
DTSTART;TZID=America/New_York:20251020T180000
DTEND;TZID=America/New_York:20251020T200000
DTSTAMP:20260424T090916
CREATED:20241002T165012Z
LAST-MODIFIED:20241002T165012Z
UID:8526-1760983200-1760990400@www.believersband.com
SUMMARY:BB Rehearsal
DESCRIPTION:
URL:https://www.believersband.com/event/bb-rehearsal-133/
LOCATION:Gainesville First United Methodist Church
CATEGORIES:Believers Band
END:VEVENT
BEGIN:VEVENT
DTSTART;TZID=America/New_York:20251013T180000
DTEND;TZID=America/New_York:20251013T200000
DTSTAMP:20260424T090916
CREATED:20241002T165006Z
LAST-MODIFIED:20241002T165006Z
UID:8525-1760378400-1760385600@www.believersband.com
SUMMARY:BB Rehearsal
DESCRIPTION:
URL:https://www.believersband.com/event/bb-rehearsal-132/
LOCATION:Gainesville First United Methodist Church
CATEGORIES:Believers Band
END:VEVENT
BEGIN:VEVENT
DTSTART;TZID=America/New_York:20251006T180000
DTEND;TZID=America/New_York:20251006T200000
DTSTAMP:20260424T090916
CREATED:20241002T165004Z
LAST-MODIFIED:20241002T165004Z
UID:8524-1759773600-1759780800@www.believersband.com
SUMMARY:BB Rehearsal
DESCRIPTION:
URL:https://www.believersband.com/event/bb-rehearsal-131/
LOCATION:Gainesville First United Methodist Church
CATEGORIES:Believers Band
END:VEVENT
BEGIN:VEVENT
DTSTART;TZID=America/New_York:20250929T180000
DTEND;TZID=America/New_York:20250929T200000
DTSTAMP:20260424T090916
CREATED:20241002T165001Z
LAST-MODIFIED:20241002T165001Z
UID:8523-1759168800-1759176000@www.believersband.com
SUMMARY:BB Rehearsal
DESCRIPTION:
URL:https://www.believersband.com/event/bb-rehearsal-130/
LOCATION:Gainesville First United Methodist Church
CATEGORIES:Believers Band
END:VEVENT
BEGIN:VEVENT
DTSTART;TZID=America/New_York:20250922T180000
DTEND;TZID=America/New_York:20250922T200000
DTSTAMP:20260424T090916
CREATED:20241002T164959Z
LAST-MODIFIED:20241002T164959Z
UID:8522-1758564000-1758571200@www.believersband.com
SUMMARY:BB Rehearsal
DESCRIPTION:
URL:https://www.believersband.com/event/bb-rehearsal-129/
LOCATION:Gainesville First United Methodist Church
CATEGORIES:Believers Band
END:VEVENT
BEGIN:VEVENT
DTSTART;TZID=America/New_York:20250915T180000
DTEND;TZID=America/New_York:20250915T200000
DTSTAMP:20260424T090916
CREATED:20241002T164957Z
LAST-MODIFIED:20241002T164957Z
UID:8521-1757959200-1757966400@www.believersband.com
SUMMARY:BB Rehearsal
DESCRIPTION:
URL:https://www.believersband.com/event/bb-rehearsal-128/
LOCATION:Gainesville First United Methodist Church
CATEGORIES:Believers Band
END:VEVENT
BEGIN:VEVENT
DTSTART;TZID=America/New_York:20250914T083000
DTEND;TZID=America/New_York:20250914T093000
DTSTAMP:20260424T090916
CREATED:20250513T135710Z
LAST-MODIFIED:20250513T135710Z
UID:9386-1757838600-1757842200@www.believersband.com
SUMMARY:BB Lakeside Worship Service
DESCRIPTION:
URL:https://www.believersband.com/event/bb-lakeside-worship-service/
LOCATION:Gainesville First United Methodist Church
CATEGORIES:Believers Band,Public
END:VEVENT
BEGIN:VEVENT
DTSTART;TZID=America/New_York:20250908T180000
DTEND;TZID=America/New_York:20250908T200000
DTSTAMP:20260424T090916
CREATED:20241002T164948Z
LAST-MODIFIED:20241002T164948Z
UID:8520-1757354400-1757361600@www.believersband.com
SUMMARY:BB Rehearsal
DESCRIPTION:
URL:https://www.believersband.com/event/bb-rehearsal-127/
LOCATION:Gainesville First United Methodist Church
CATEGORIES:Believers Band
END:VEVENT
BEGIN:VEVENT
DTSTART;TZID=America/New_York:20250901T180000
DTEND;TZID=America/New_York:20250901T200000
DTSTAMP:20260424T090916
CREATED:20241001T121555Z
LAST-MODIFIED:20241002T164946Z
UID:8437-1756749600-1756756800@www.believersband.com
SUMMARY:BB Rehearsal
DESCRIPTION:
URL:https://www.believersband.com/event/bb-rehearsal-87/
LOCATION:Gainesville First United Methodist Church
CATEGORIES:Believers Band
END:VEVENT
BEGIN:VEVENT
DTSTART;TZID=America/New_York:20250825T180000
DTEND;TZID=America/New_York:20250825T200000
DTSTAMP:20260424T090916
CREATED:20241002T164945Z
LAST-MODIFIED:20241002T164945Z
UID:8519-1756144800-1756152000@www.believersband.com
SUMMARY:BB Rehearsal
DESCRIPTION:
URL:https://www.believersband.com/event/bb-rehearsal-126/
LOCATION:Gainesville First United Methodist Church
CATEGORIES:Believers Band
END:VEVENT
BEGIN:VEVENT
DTSTART;TZID=America/New_York:20250818T180000
DTEND;TZID=America/New_York:20250818T200000
DTSTAMP:20260424T090916
CREATED:20241002T164944Z
LAST-MODIFIED:20241002T164944Z
UID:8518-1755540000-1755547200@www.believersband.com
SUMMARY:BB Rehearsal
DESCRIPTION:
URL:https://www.believersband.com/event/bb-rehearsal-125/
LOCATION:Gainesville First United Methodist Church
CATEGORIES:Believers Band
END:VEVENT
BEGIN:VEVENT
DTSTART;TZID=America/New_York:20250811T180000
DTEND;TZID=America/New_York:20250811T200000
DTSTAMP:20260424T090916
CREATED:20241002T164942Z
LAST-MODIFIED:20241002T164942Z
UID:8517-1754935200-1754942400@www.believersband.com
SUMMARY:BB Rehearsal
DESCRIPTION:
URL:https://www.believersband.com/event/bb-rehearsal-124/
LOCATION:Gainesville First United Methodist Church
CATEGORIES:Believers Band
END:VEVENT
BEGIN:VEVENT
DTSTART;TZID=America/New_York:20250805T180000
DTEND;TZID=America/New_York:20250805T210000
DTSTAMP:20260424T090916
CREATED:20250711T191110Z
LAST-MODIFIED:20250725T132826Z
UID:9639-1754416800-1754427600@www.believersband.com
SUMMARY:Back to Band Social - BB & SJ
DESCRIPTION:
URL:https://www.believersband.com/event/back-to-band-social-bb-sj/
LOCATION:NoFo Brew Company\, 434 High St. SW\, Suite A\, Gainesville\, GA\, 30501\, United States
CATEGORIES:Believers Band,Southern Journey Big Band
END:VEVENT
BEGIN:VEVENT
DTSTART;TZID=America/New_York:20250629T160000
DTEND;TZID=America/New_York:20250629T180000
DTSTAMP:20260424T090916
CREATED:20240917T153002Z
LAST-MODIFIED:20250220T161825Z
UID:8397-1751212800-1751220000@www.believersband.com
SUMMARY:BB Patriotic Concert
DESCRIPTION:
URL:https://www.believersband.com/event/patriotic-concert/
LOCATION:Gainesville First United Methodist Church
CATEGORIES:Believers Band,Public
END:VEVENT
BEGIN:VEVENT
DTSTART;TZID=America/New_York:20250625T183000
DTEND;TZID=America/New_York:20250625T210000
DTSTAMP:20260424T090916
CREATED:20240917T153145Z
LAST-MODIFIED:20250617T000103Z
UID:8399-1750876200-1750885200@www.believersband.com
SUMMARY:BB Dress Rehearsal
DESCRIPTION:
URL:https://www.believersband.com/event/dress-rehearsal-4/
LOCATION:Gainesville First United Methodist Church
CATEGORIES:Believers Band
END:VEVENT
BEGIN:VEVENT
DTSTART;TZID=America/New_York:20250623T180000
DTEND;TZID=America/New_York:20250623T200000
DTSTAMP:20260424T090916
CREATED:20241002T164939Z
LAST-MODIFIED:20241002T164939Z
UID:8516-1750701600-1750708800@www.believersband.com
SUMMARY:BB Rehearsal
DESCRIPTION:
URL:https://www.believersband.com/event/bb-rehearsal-123/
LOCATION:Gainesville First United Methodist Church
CATEGORIES:Believers Band
END:VEVENT
BEGIN:VEVENT
DTSTART;TZID=America/New_York:20250616T180000
DTEND;TZID=America/New_York:20250616T200000
DTSTAMP:20260424T090916
CREATED:20241002T164938Z
LAST-MODIFIED:20241002T164938Z
UID:8515-1750096800-1750104000@www.believersband.com
SUMMARY:BB Rehearsal
DESCRIPTION:
URL:https://www.believersband.com/event/bb-rehearsal-122/
LOCATION:Gainesville First United Methodist Church
CATEGORIES:Believers Band
END:VEVENT
BEGIN:VEVENT
DTSTART;TZID=America/New_York:20250609T180000
DTEND;TZID=America/New_York:20250609T200000
DTSTAMP:20260424T090916
CREATED:20241002T164936Z
LAST-MODIFIED:20241002T164936Z
UID:8514-1749492000-1749499200@www.believersband.com
SUMMARY:BB Rehearsal
DESCRIPTION:
URL:https://www.believersband.com/event/bb-rehearsal-121/
LOCATION:Gainesville First United Methodist Church
CATEGORIES:Believers Band
END:VEVENT
BEGIN:VEVENT
DTSTART;TZID=America/New_York:20250602T180000
DTEND;TZID=America/New_York:20250602T200000
DTSTAMP:20260424T090916
CREATED:20241002T164935Z
LAST-MODIFIED:20241002T164935Z
UID:8513-1748887200-1748894400@www.believersband.com
SUMMARY:BB Rehearsal
DESCRIPTION:
URL:https://www.believersband.com/event/bb-rehearsal-120/
LOCATION:Gainesville First United Methodist Church
CATEGORIES:Believers Band
END:VEVENT
BEGIN:VEVENT
DTSTART;TZID=America/New_York:20250526T180000
DTEND;TZID=America/New_York:20250526T200000
DTSTAMP:20260424T090916
CREATED:20241002T164927Z
LAST-MODIFIED:20241002T164927Z
UID:8512-1748282400-1748289600@www.believersband.com
SUMMARY:BB Rehearsal
DESCRIPTION:
URL:https://www.believersband.com/event/bb-rehearsal-119/
LOCATION:Gainesville First United Methodist Church
CATEGORIES:Believers Band
END:VEVENT
BEGIN:VEVENT
DTSTART;TZID=America/New_York:20250519T180000
DTEND;TZID=America/New_York:20250519T200000
DTSTAMP:20260424T090916
CREATED:20241002T164920Z
LAST-MODIFIED:20241002T164920Z
UID:8511-1747677600-1747684800@www.believersband.com
SUMMARY:BB Rehearsal
DESCRIPTION:
URL:https://www.believersband.com/event/bb-rehearsal-118/
LOCATION:Gainesville First United Methodist Church
CATEGORIES:Believers Band
END:VEVENT
BEGIN:VEVENT
DTSTART;TZID=America/New_York:20250518T083000
DTEND;TZID=America/New_York:20250518T093000
DTSTAMP:20260424T090916
CREATED:20240917T152742Z
LAST-MODIFIED:20250513T140024Z
UID:8395-1747557000-1747560600@www.believersband.com
SUMMARY:BB Lakeside Worship Service
DESCRIPTION:
URL:https://www.believersband.com/event/lakeside-worship-service/
LOCATION:Gainesville First United Methodist Church
CATEGORIES:Believers Band,Public
END:VEVENT
BEGIN:VEVENT
DTSTART;TZID=America/New_York:20250512T180000
DTEND;TZID=America/New_York:20250512T200000
DTSTAMP:20260424T090916
CREATED:20241002T164919Z
LAST-MODIFIED:20241002T164919Z
UID:8510-1747072800-1747080000@www.believersband.com
SUMMARY:BB Rehearsal
DESCRIPTION:
URL:https://www.believersband.com/event/bb-rehearsal-117/
LOCATION:Gainesville First United Methodist Church
CATEGORIES:Believers Band
END:VEVENT
END:VCALENDAR